BEGIN_USGS_DOQ_HEADER *
QUADRANGLE_NAME "NEZ PERCE PEAK" *
QUADRANT NE *
WEST_LONGITUDE -114 33 45.000 *
EAST_LONGITUDE -114 30 0.000 *
NORTH_LATITUDE 45 45 0.000 *
SOUTH_LATITUDE 45 41 15.000 *
PRODUCTION_DATE 2003 3 25 *
RASTER_ORDER LEFT_RIGHT/TOP_BOTTOM *
BAND_ORGANIZATION "SINGLE FILE" *
BAND_CONTENT BLACK&WHITE *
BITS_PER_PIXEL 8 *
SAMPLES_AND_LINES 5751 7701 *
HORIZONTAL_DATUM NAD83 *
HORIZONTAL_COORDINATE_SYSTEM UTM *
COORDINATE_ZONE 11 *
HORIZONTAL_UNITS METERS *
HORIZONTAL_RESOLUTION 1.0 *
SECONDARY_HORIZONTAL_DATUM NAD27 *
XY_ORIGIN 689215.620 5069618.010 *
SECONDARY_XY_ORIGIN 689293.195 5069411.718 *
NATION US *
STATE ID *
STATE MT *
NW_QUAD_CORNER_XY 689588.066 5069160.931 *
NE_QUAD_CORNER_XY 694449.222 5069311.058 *
SE_QUAD_CORNER_XY 694666.267 5062367.382 *
SW_QUAD_CORNER_XY 689799.679 5062217.246 *
SECONDARY_NW_QUAD_XY 689593.758 5068943.222 *
SECONDARY_NE_QUAD_XY 694455.060 5069093.354 *
SECONDARY_SE_QUAD_XY 694672.103 5062149.723 *
SECONDARY_SW_QUAD_XY 689805.369 5061999.583 *
RMSE_XY 1.00 *
IMAGE_SOURCE "BLACK AND WHITE FILM" *
SOURCE_IMAGE_ID "NAPP 10652 191" *
SOURCE_IMAGE_DATE 1998 9 15 *
SOURCE_IMAGE_ID "NAPP 10652 190" *
SOURCE_IMAGE_DATE 1998 9 15 *
SOURCE_IMAGE_ID "NAPP 10652 192" *
SOURCE_IMAGE_DATE 1998 9 15 *
SOURCE_IMAGE_ID "NAPP 10652 259" *
SOURCE_IMAGE_DATE 1998 9 15 *
SOURCE_IMAGE_ID "NAPP 10652 258" *
SOURCE_IMAGE_DATE 1998 9 15 *
SOURCE_IMAGE_ID "NAPP 10652 257" *
SOURCE_IMAGE_DATE 1998 9 15 *
SOURCE_IMAGE_ID "NAPP 10653 35" *
SOURCE_IMAGE_DATE 1998 9 15 *
SOURCE_IMAGE_ID "NAPP 10653 36" *
SOURCE_IMAGE_DATE 1998 9 15 *
SOURCE_IMAGE_ID "NAPP 10653 37" *
SOURCE_IMAGE_DATE 1998 9 15 *
SOURCE_DEM_DATE 2003 1 1 *
AGENCY "WESTERN MAPPING CENTER (WMC)" *
PRODUCER "USDA FS GEOSPATIAL SERVICE AND TECHNOLOGY CENTER" *
PRODUCTION_SYSTEM "ORBIT OR_RECTIFY V.5.2" *
STANDARD_VERSION 1996 12 *
METADATA_DATE 2003 3 19 *
DATA_FILE_SIZE 44294202 *
BYTE_COUNT 5751 *
