BEGIN_USGS_DOQ_HEADER *
QUADRANGLE_NAME "NEZ PERCE PEAK" *
QUADRANT SE *
WEST_LONGITUDE -114 33 45.000 *
EAST_LONGITUDE -114 30 0.000 *
NORTH_LATITUDE 45 41 15.000 *
SOUTH_LATITUDE 45 37 30.000 *
PRODUCTION_DATE 2003 3 25 *
RASTER_ORDER LEFT_RIGHT/TOP_BOTTOM *
BAND_ORGANIZATION "SINGLE FILE" *
BAND_CONTENT BLACK&WHITE *
BITS_PER_PIXEL 8 *
SAMPLES_AND_LINES 5756 7701 *
HORIZONTAL_DATUM NAD83 *
HORIZONTAL_COORDINATE_SYSTEM UTM *
COORDINATE_ZONE 11 *
HORIZONTAL_UNITS METERS *
HORIZONTAL_RESOLUTION 1.0 *
SECONDARY_HORIZONTAL_DATUM NAD27 *
XY_ORIGIN 689427.170 5062674.380 *
SECONDARY_XY_ORIGIN 689504.798 5062468.178 *
NATION US *
STATE ID *
STATE MT *
NW_QUAD_CORNER_XY 689799.679 5062217.246 *
NE_QUAD_CORNER_XY 694666.267 5062367.382 *
SE_QUAD_CORNER_XY 694883.079 5055423.767 *
SW_QUAD_CORNER_XY 690011.064 5055273.624 *
SECONDARY_NW_QUAD_XY 689805.369 5061999.583 *
SECONDARY_NE_QUAD_XY 694672.103 5062149.723 *
SECONDARY_SE_QUAD_XY 694888.913 5055206.154 *
SECONDARY_SW_QUAD_XY 690016.752 5055056.007 *
RMSE_XY 1.00 *
IMAGE_SOURCE "BLACK AND WHITE FILM" *
SOURCE_IMAGE_ID "NAPP 10652 189" *
SOURCE_IMAGE_DATE 1998 9 15 *
SOURCE_IMAGE_ID "NAPP 10652 188" *
SOURCE_IMAGE_DATE 1998 9 15 *
SOURCE_IMAGE_ID "NAPP 10652 190" *
SOURCE_IMAGE_DATE 1998 9 15 *
SOURCE_IMAGE_ID "NAPP 10652 261" *
SOURCE_IMAGE_DATE 1998 9 15 *
SOURCE_IMAGE_ID "NAPP 10652 260" *
SOURCE_IMAGE_DATE 1998 9 15 *
SOURCE_IMAGE_ID "NAPP 10652 259" *
SOURCE_IMAGE_DATE 1998 9 15 *
SOURCE_IMAGE_ID "NAPP 10653 33" *
SOURCE_IMAGE_DATE 1998 9 15 *
SOURCE_IMAGE_ID "NAPP 10653 34" *
SOURCE_IMAGE_DATE 1998 9 15 *
SOURCE_IMAGE_ID "NAPP 10653 35" *
SOURCE_IMAGE_DATE 1998 9 15 *
SOURCE_DEM_DATE 2003 1 1 *
AGENCY "WESTERN MAPPING CENTER (WMC)" *
PRODUCER "USDA FS GEOSPATIAL SERVICE AND TECHNOLOGY CENTER" *
PRODUCTION_SYSTEM "ORBIT OR_RECTIFY V.5.2" *
STANDARD_VERSION 1996 12 *
METADATA_DATE 2003 3 19 *
DATA_FILE_SIZE 44332712 *
BYTE_COUNT 5756 *
