FILENAME: O4511416.SES.1068751.tif
QUADRANGLE_NAME: MEDICINE HOT SPRINGS
QUADRANT: SE
WEST_LONGITUDE: -114 3 45.00000
EAST_LONGITUDE: -114 0 0.00000
NORTH_LATITUDE: 45 48 45.00000
SOUTH_LATITUDE: 45 45 0.00000
PRODUCTION_DATE: 2000 3 9
RASTER_ORDER: LEFT_RIGHT/TOP_BOTTOM
BAND_ORGANIZATION: SINGLE FILE
BAND_CONTENT: BLACK&WHITE
BAND_CONTENT: UNDEFINED
BAND_CONTENT: UNDEFINED
BITS_PER_PIXEL: 8
SAMPLES_AND_LINES: 5790 7739
HORIZONTAL_DATUM: NAD83
HORIZONTAL_COORDINATE_SYSTEM: UTM
COORDINATE_ZONE: 11
HORIZONTAL_UNITS: METERS
HORIZONTAL_RESOLUTION: 1.00000
SECONDARY_HORIZONTAL_DATUM: NAD27
XY_ORIGIN: 727850.00000 5077893.00000
SECONDARY_XY_ORIGIN: 727927.59700 5077686.81500
NATION: US
NATION: "SCIENCE
STATE: MT
NW_QUAD_CORNER_XY: 728221.77800 5077412.19400
NE_QUAD_CORNER_XY: 733077.43900 5077592.76500
SE_QUAD_CORNERY_XY: 733338.24300 5070649.10400
SW_QUAD_CORNER_XY: 728477.13900 5070468.52300
SECONDARY_NW_QUAD_XY: 728228.63600 5077194.47900
SECONDARY_NE_QUAD_XY: 733084.44400 5077375.05500
SECONDARY_SE_QUAD_XY: 733345.24500 5070431.43900
SECONDARY_SW_QUAD_XY: 728483.99500 5070250.85300
RMSE_XY: 3.80000
IMAGE_SOURCE: BLACK AND WHITE FILM
SOURCE_IMAGE_ID: NAPP 8406 260
SOURCE_IMAGE_DATE: 1995 07 31
SOURCE_IMAGE_ID: NAPP 8406 238
SOURCE_IMAGE_DATE: 1995 07 31
SOURCE_IMAGE_ID: NAPP 8406 261
SOURCE_IMAGE_DATE: 1995 07 31
SOURCE_IMAGE_ID: NAPP 8406 259
SOURCE_IMAGE_DATE: 1995 07 31
SOURCE_DEM_DATE: 1997 00 00
AGENCY: WESTERN MAPPING CENTER (WMC)
PRODUCER: UNDEFINED
PRODUCTION_SYSTEM: GIS/MAGIC
COMPRESSION: UNDEFINED
STANDARD_VERSION: 1996 12
METADATA_DATE: 2000 04 20
DATA_FILE_SIZE: 44814600
BYTE_COUNT: 5790
