FILENAME: O4511408.NES.1068745.tif
QUADRANGLE_NAME: ROBBINS GULCH
QUADRANT: NE
WEST_LONGITUDE: -114 3 45.00000
EAST_LONGITUDE: -114 0 0.00000
NORTH_LATITUDE: 46 0 0.00000
SOUTH_LATITUDE: 45 56 15.00000
PRODUCTION_DATE: 2000 3 9
RASTER_ORDER: LEFT_RIGHT/TOP_BOTTOM
BAND_ORGANIZATION: SINGLE FILE
BAND_CONTENT: BLACK&WHITE
BAND_CONTENT: UNDEFINED
BAND_CONTENT: UNDEFINED
BITS_PER_PIXEL: 8
SAMPLES_AND_LINES: 5774 7739
HORIZONTAL_DATUM: NAD83
HORIZONTAL_COORDINATE_SYSTEM: UTM
COORDINATE_ZONE: 11
HORIZONTAL_UNITS: METERS
HORIZONTAL_RESOLUTION: 1.00000
SECONDARY_HORIZONTAL_DATUM: NAD27
XY_ORIGIN: 727082.00000 5098725.00000
SECONDARY_XY_ORIGIN: 727159.53800 5098518.58300
NATION: US
NATION: "SCIENCE
STATE: MT
NW_QUAD_CORNER_XY: 727454.06000 5098243.54600
NE_QUAD_CORNER_XY: 732293.35900 5098424.07900
SE_QUAD_CORNERY_XY: 732554.99700 5091480.25200
SW_QUAD_CORNER_XY: 727710.23800 5091299.70600
SECONDARY_NW_QUAD_XY: 727460.92300 5098025.70100
SECONDARY_NE_QUAD_XY: 732300.36800 5098206.24000
SECONDARY_SE_QUAD_XY: 732562.00500 5091262.45500
SECONDARY_SW_QUAD_XY: 727717.10000 5091081.90300
RMSE_XY: 2.50000
IMAGE_SOURCE: BLACK AND WHITE FILM
SOURCE_IMAGE_ID: NAPP 8406 254
SOURCE_IMAGE_DATE: 1995 07 31
SOURCE_IMAGE_ID: NAPP 8406 242
SOURCE_IMAGE_DATE: 1995 07 31
SOURCE_IMAGE_ID: NAPP 8406 244
SOURCE_IMAGE_DATE: 1995 07 31
SOURCE_IMAGE_ID: NAPP 8406 255
SOURCE_IMAGE_DATE: 1995 07 31
SOURCE_IMAGE_ID: NAPP 8406 253
SOURCE_IMAGE_DATE: 1995 07 31
SOURCE_DEM_DATE: 1997 00 00
AGENCY: WESTERN MAPPING CENTER (WMC)
PRODUCER: UNDEFINED
PRODUCTION_SYSTEM: GIS/MAGIC
COMPRESSION: UNDEFINED
STANDARD_VERSION: 1996 12
METADATA_DATE: 2000 04 20
DATA_FILE_SIZE: 44690760
BYTE_COUNT: 5774
