FILENAME: O4511408.NWS.1068746.tif
QUADRANGLE_NAME: ROBBINS GULCH
QUADRANT: NW
WEST_LONGITUDE: -114 7 30.00000
EAST_LONGITUDE: -114 3 45.00000
NORTH_LATITUDE: 46 0 0.00000
SOUTH_LATITUDE: 45 56 15.00000
PRODUCTION_DATE: 2000 3 14
RASTER_ORDER: LEFT_RIGHT/TOP_BOTTOM
BAND_ORGANIZATION: SINGLE FILE
BAND_CONTENT: BLACK&WHITE
BAND_CONTENT: UNDEFINED
BAND_CONTENT: UNDEFINED
BITS_PER_PIXEL: 8
SAMPLES_AND_LINES: 5770 7735
HORIZONTAL_DATUM: NAD83
HORIZONTAL_COORDINATE_SYSTEM: UTM
COORDINATE_ZONE: 11
HORIZONTAL_UNITS: METERS
HORIZONTAL_RESOLUTION: 1.00000
SECONDARY_HORIZONTAL_DATUM: NAD27
XY_ORIGIN: 722242.00000 5098544.00000
SECONDARY_XY_ORIGIN: 722319.52300 5098337.54700
NATION: US
NATION: "SCIENCE
STATE: MT
NW_QUAD_CORNER_XY: 722614.75200 5098066.81900
NE_QUAD_CORNER_XY: 727454.06000 5098243.54600
SE_QUAD_CORNERY_XY: 727710.23800 5091299.70600
SW_QUAD_CORNER_XY: 722865.47100 5091122.96600
SECONDARY_NW_QUAD_XY: 722621.46900 5097848.96900
SECONDARY_NE_QUAD_XY: 727460.92300 5098025.70100
SECONDARY_SE_QUAD_XY: 727717.10000 5091081.90300
SECONDARY_SW_QUAD_XY: 722872.18700 5090905.15800
RMSE_XY: 2.30000
IMAGE_SOURCE: BLACK AND WHITE FILM
SOURCE_IMAGE_ID: NAPP 8406 243
SOURCE_IMAGE_DATE: 1995 07 31
SOURCE_IMAGE_ID: NAPP 8406 242
SOURCE_IMAGE_DATE: 1995 07 31
SOURCE_IMAGE_ID: NAPP 8406 244
SOURCE_IMAGE_DATE: 1995 07 31
SOURCE_IMAGE_ID: NAPP 8406 253
SOURCE_IMAGE_DATE: 1995 07 31
SOURCE_DEM_DATE: 1997 00 00
AGENCY: WESTERN MAPPING CENTER (WMC)
PRODUCER: UNDEFINED
PRODUCTION_SYSTEM: GIS/MAGIC
COMPRESSION: UNDEFINED
STANDARD_VERSION: 1996 12
METADATA_DATE: 2000 04 20
DATA_FILE_SIZE: 44636720
BYTE_COUNT: 5770
