FILENAME: O4511406.NES.1068251.tif
QUADRANGLE_NAME: TRAPPER PEAK
QUADRANT: NE
WEST_LONGITUDE: -114 18 45.00000
EAST_LONGITUDE: -114 15 0.00000
NORTH_LATITUDE: 46 0 0.00000
SOUTH_LATITUDE: 45 56 15.00000
PRODUCTION_DATE: 2000 3 21
RASTER_ORDER: LEFT_RIGHT/TOP_BOTTOM
BAND_ORGANIZATION: SINGLE FILE
BAND_CONTENT: BLACK&WHITE
BAND_CONTENT: UNDEFINED
BAND_CONTENT: UNDEFINED
BITS_PER_PIXEL: 8
SAMPLES_AND_LINES: 5753 7723
HORIZONTAL_DATUM: NAD83
HORIZONTAL_COORDINATE_SYSTEM: UTM
COORDINATE_ZONE: 11
HORIZONTAL_UNITS: METERS
HORIZONTAL_RESOLUTION: 1.00000
SECONDARY_HORIZONTAL_DATUM: NAD27
XY_ORIGIN: 707724.00000 5098025.00000
SECONDARY_XY_ORIGIN: 707801.46800 5097818.43400
NATION: US
NATION: "SCIENCE
STATE: MT
NW_QUAD_CORNER_XY: 708096.77400 5097559.47700
NE_QUAD_CORNER_XY: 712936.10900 5097724.78500
SE_QUAD_CORNERY_XY: 713175.91100 5090780.90700
SW_QUAD_CORNER_XY: 708331.11800 5090615.58700
SECONDARY_NW_QUAD_XY: 708103.05300 5097341.61100
SECONDARY_NE_QUAD_XY: 712942.53400 5097506.92500
SECONDARY_SE_QUAD_XY: 713182.33400 5090563.08900
SECONDARY_SW_QUAD_XY: 708337.39500 5090397.76400
RMSE_XY: 2.20000
IMAGE_SOURCE: BLACK AND WHITE FILM
SOURCE_IMAGE_ID: NAPP 8406 117
SOURCE_IMAGE_DATE: 1995 07 31
SOURCE_IMAGE_ID: NAPP 8407 035
SOURCE_IMAGE_DATE: 1995 08 19
SOURCE_IMAGE_ID: NAPP 8407 036
SOURCE_IMAGE_DATE: 1995 08 19
SOURCE_IMAGE_ID: NAPP 8407 037
SOURCE_IMAGE_DATE: 1995 08 19
SOURCE_IMAGE_ID: NAPP 8407 159
SOURCE_IMAGE_DATE: 1995 08 19
SOURCE_DEM_DATE: 1997 00 00
AGENCY: WESTERN MAPPING CENTER (WMC)
PRODUCER: UNDEFINED
PRODUCTION_SYSTEM: GIS/MAGIC
COMPRESSION: UNDEFINED
STANDARD_VERSION: 1996 12
METADATA_DATE: 2000 04 20
DATA_FILE_SIZE: 44436172
BYTE_COUNT: 5753
