BEGIN_USGS_DOQ_HEADER *
QUADRANGLE_NAME "TIN CUP LAKE" *
QUADRANT SE *
WEST_LONGITUDE -114 26 15.000 *
EAST_LONGITUDE -114 22 30.000 *
NORTH_LATITUDE 45 56 15.000 *
SOUTH_LATITUDE 45 52 30.000 *
PRODUCTION_DATE 2003 4 1 *
RASTER_ORDER LEFT_RIGHT/TOP_BOTTOM *
BAND_ORGANIZATION "SINGLE FILE" *
BAND_CONTENT BLACK&WHITE *
BITS_PER_PIXEL 8 *
SAMPLES_AND_LINES 5746 7708 *
HORIZONTAL_DATUM NAD83 *
HORIZONTAL_COORDINATE_SYSTEM UTM *
COORDINATE_ZONE 11 *
HORIZONTAL_UNITS METERS *
HORIZONTAL_RESOLUTION 1.0 *
SECONDARY_HORIZONTAL_DATUM NAD27 *
XY_ORIGIN 698269.460 5090760.680 *
SECONDARY_XY_ORIGIN 698346.912 5090554.136 *
NATION US *
STATE ID *
STATE MT *
NW_QUAD_CORNER_XY 698641.509 5090296.364 *
NE_QUAD_CORNER_XY 703486.317 5090454.073 *
SE_QUAD_CORNER_XY 703714.961 5083510.232 *
SW_QUAD_CORNER_XY 698864.701 5083352.512 *
SECONDARY_NW_QUAD_XY 698647.496 5090078.532 *
SECONDARY_NE_QUAD_XY 703492.451 5090236.246 *
SECONDARY_SE_QUAD_XY 703721.093 5083292.448 *
SECONDARY_SW_QUAD_XY 698870.687 5083134.723 *
RMSE_XY 1.00 *
IMAGE_SOURCE "BLACK AND WHITE FILM" *
SOURCE_IMAGE_ID "NAPP 10653 97" *
SOURCE_IMAGE_DATE 1998 9 15 *
SOURCE_IMAGE_ID "NAPP 10653 98" *
SOURCE_IMAGE_DATE 1998 9 15 *
SOURCE_IMAGE_ID "NAPP 10653 96" *
SOURCE_IMAGE_DATE 1998 9 15 *
SOURCE_IMAGE_ID "NAPP 10653 41" *
SOURCE_IMAGE_DATE 1998 9 15 *
SOURCE_IMAGE_ID "NAPP 10653 42" *
SOURCE_IMAGE_DATE 1998 9 15 *
SOURCE_IMAGE_ID "NAPP 10653 43" *
SOURCE_IMAGE_DATE 1998 9 15 *
SOURCE_DEM_DATE 2003 1 1 *
AGENCY "WESTERN MAPPING CENTER (WMC)" *
PRODUCER "USDA FS GEOSPATIAL SERVICE AND TECHNOLOGY CENTER" *
PRODUCTION_SYSTEM "ORBIT OR_RECTIFY V.5.2" *
STANDARD_VERSION 1996 12 *
METADATA_DATE 2003 3 19 *
DATA_FILE_SIZE 44295914 *
BYTE_COUNT 5746 *
