FILENAME: O4610448.SWS.991854.tif
QUADRANGLE_NAME: WATERHOLE CREEK
QUADRANT: SW
WEST_LONGITUDE: -104 7 30.00000
EAST_LONGITUDE: -104 3 45.00000
NORTH_LATITUDE: 46 18 45.00000
SOUTH_LATITUDE: 46 15 0.00000
PRODUCTION_DATE: 1999 01 06
RASTER_ORDER: LEFT_RIGHT/TOP_BOTTOM
BAND_ORGANIZATION: SINGLE FILE
BAND_CONTENT: BLACK&WHITE
BAND_CONTENT: UNDEFINED
BAND_CONTENT: UNDEFINED
BITS_PER_PIXEL: 8
SAMPLES_AND_LINES: 5532 7599
HORIZONTAL_DATUM: NAD83
HORIZONTAL_COORDINATE_SYSTEM: UTM
COORDINATE_ZONE: 13
HORIZONTAL_UNITS: METERS
HORIZONTAL_RESOLUTION: 1.00000
SECONDARY_HORIZONTAL_DATUM: NAD27
XY_ORIGIN: 567033.50000 5129495.50000
SECONDARY_XY_ORIGIN: 567073.34800 5129277.14600
NATION: US
STATE: MT
NW_QUAD_CORNER_XY: 567370.71900 5129141.34700
NE_QUAD_CORNER_XY: 572182.89500 5129196.39100
SE_QUAD_CORNERY_XY: 572265.02700 5122251.91000
SW_QUAD_CORNER_XY: 567447.37500 5122196.86000
SECONDARY_NW_QUAD_XY: 567372.76500 5128923.18800
SECONDARY_NE_QUAD_XY: 572185.08700 5128978.23400
SECONDARY_SE_QUAD_XY: 572267.21900 5122033.79000
SECONDARY_SW_QUAD_XY: 567449.42000 5121978.73900
RMSE_XY: 6.06000
IMAGE_SOURCE: BLACK & WHITE FILM
SOURCE_IMAGE_ID: NAPP 8631 090
SOURCE_IMAGE_DATE: 1995 07 28
SOURCE_DEM_DATE: 1998 01 01
AGENCY: WESTERN MAPPING CENTER (WMC)
PRODUCER: ATLANTIC TECHNOLOGIES
PRODUCTION_SYSTEM: INTERGRAPH MODEL_SETUP, BASE_RECTIFIER
COMPRESSION: UNDEFINED
STANDARD_VERSION: 1996 12
METADATA_DATE: 1999 01 06
DATA_FILE_SIZE: 42043200
BYTE_COUNT: 5532
