FILENAME: O4610440.SWS.991916.tif
QUADRANGLE_NAME: BADLAND DRAW
QUADRANT: SW
WEST_LONGITUDE: -104 7 30.00000
EAST_LONGITUDE: -104 3 45.00000
NORTH_LATITUDE: 46 26 15.00000
SOUTH_LATITUDE: 46 22 30.00000
PRODUCTION_DATE: 1999 03 24
RASTER_ORDER: LEFT_RIGHT/TOP_BOTTOM
BAND_ORGANIZATION: SINGLE FILE
BAND_CONTENT: BLACK&WHITE
BAND_CONTENT: UNDEFINED
BAND_CONTENT: UNDEFINED
BITS_PER_PIXEL: 8
SAMPLES_AND_LINES: 5520 7600
HORIZONTAL_DATUM: NAD83
HORIZONTAL_COORDINATE_SYSTEM: UTM
COORDINATE_ZONE: 13
HORIZONTAL_UNITS: METERS
HORIZONTAL_RESOLUTION: 1.00000
SECONDARY_HORIZONTAL_DATUM: NAD27
XY_ORIGIN: 566880.50000 5143385.50000
SECONDARY_XY_ORIGIN: 566920.20500 5143166.83900
NATION: US
STATE: MT
NW_QUAD_CORNER_XY: 567217.16700 5143030.54400
NE_QUAD_CORNER_XY: 572018.37300 5143085.57700
SE_QUAD_CORNERY_XY: 572100.67700 5136140.94700
SW_QUAD_CORNER_XY: 567293.98300 5136085.90800
SECONDARY_NW_QUAD_XY: 567219.21400 5142812.31100
SECONDARY_NE_QUAD_XY: 572020.56600 5142867.34600
SECONDARY_SE_QUAD_XY: 572102.87000 5135922.75200
SECONDARY_SW_QUAD_XY: 567296.03000 5135867.71200
RMSE_XY: 3.24000
IMAGE_SOURCE: BLACK & WHITE FILM
SOURCE_IMAGE_ID: NAPP 8631 086
SOURCE_IMAGE_DATE: 1995 07 28
SOURCE_DEM_DATE: 1998 01 01
AGENCY: WESTERN MAPPING CENTER (WMC)
PRODUCER: ATLANTIC TECHNOLOGIES
PRODUCTION_SYSTEM: INTERGRAPH MODEL_SETUP, BASE_RECTIFIER
COMPRESSION: UNDEFINED
STANDARD_VERSION: 1996 12
METADATA_DATE: 1999 01 06
DATA_FILE_SIZE: 41957520
BYTE_COUNT: 5520
