FILENAME: O4610427.NES.1163640.tif
QUADRANGLE_NAME: AYER SPRING
QUADRANT: NE
WEST_LONGITUDE: -104 41 15.00000
EAST_LONGITUDE: -104 37 30.00000
NORTH_LATITUDE: 46 37 30.00000
SOUTH_LATITUDE: 46 33 45.00000
PRODUCTION_DATE: 2001 9 24
RASTER_ORDER: LEFT_RIGHT/TOP_BOTTOM
BAND_ORGANIZATION: SINGLE FILE
BAND_CONTENT: BLACK&WHITE
BAND_CONTENT: UNDEFINED
BAND_CONTENT: UNDEFINED
BITS_PER_PIXEL: 8
SAMPLES_AND_LINES: 5468 7578
HORIZONTAL_DATUM: NAD83
HORIZONTAL_COORDINATE_SYSTEM: UTM
COORDINATE_ZONE: 13
HORIZONTAL_UNITS: meters
HORIZONTAL_RESOLUTION: 1.00000
SECONDARY_HORIZONTAL_DATUM: NAD27
XY_ORIGIN: 523579.00000 5163868.00000
SECONDARY_XY_ORIGIN: 523618.99700 5163648.97500
NATION: US
STATE: MT
NW_QUAD_CORNER_XY: 523923.70000 5163540.51400
NE_QUAD_CORNER_XY: 528708.43600 5163561.38000
SE_QUAD_CORNERY_XY: 528741.45900 5156616.48500
SW_QUAD_CORNER_XY: 523951.21900 5156595.61700
SECONDARY_NW_QUAD_XY: 523924.43100 5163322.16700
SECONDARY_NE_QUAD_XY: 528709.31400 5163343.03400
SECONDARY_SE_QUAD_XY: 528742.33700 5156398.17300
SECONDARY_SW_QUAD_XY: 523951.95000 5156377.30300
RMSE_XY: 2.04000
IMAGE_SOURCE: BLACK AND WHITE FILM
SOURCE_IMAGE_ID: NAPP 9080-052
SOURCE_IMAGE_DATE: 1996 6 12
SOURCE_IMAGE_ID: NAPP 9080-208
SOURCE_IMAGE_DATE: 1996 6 12
SOURCE_DEM_DATE: 1999 0 0
AGENCY: WESTERN MAPPING CENTER (WMC)
PRODUCER: WOOLPERT LLP
PRODUCTION_SYSTEM: INTERGRAPH ISPM, ISIR
COMPRESSION: UNDEFINED
STANDARD_VERSION: 1996 12
METADATA_DATE: 2001 10 10
DATA_FILE_SIZE: 41441972
BYTE_COUNT: 5468
