FILENAME: O4610427.SES.1163642.tif
QUADRANGLE_NAME: AYER SPRING
QUADRANT: SE
WEST_LONGITUDE: -104 41 15.00000
EAST_LONGITUDE: -104 37 30.00000
NORTH_LATITUDE: 46 33 45.00000
SOUTH_LATITUDE: 46 30 0.00000
PRODUCTION_DATE: 2001 9 24
RASTER_ORDER: LEFT_RIGHT/TOP_BOTTOM
BAND_ORGANIZATION: SINGLE FILE
BAND_CONTENT: BLACK&WHITE
BAND_CONTENT: UNDEFINED
BAND_CONTENT: UNDEFINED
BITS_PER_PIXEL: 8
SAMPLES_AND_LINES: 5474 7578
HORIZONTAL_DATUM: NAD83
HORIZONTAL_COORDINATE_SYSTEM: UTM
COORDINATE_ZONE: 13
HORIZONTAL_UNITS: meters
HORIZONTAL_RESOLUTION: 1.00000
SECONDARY_HORIZONTAL_DATUM: NAD27
XY_ORIGIN: 523606.00000 5156923.00000
SECONDARY_XY_ORIGIN: 523646.02400 5156704.10000
NATION: US
STATE: MT
NW_QUAD_CORNER_XY: 523951.21900 5156595.61700
NE_QUAD_CORNER_XY: 528741.45900 5156616.48500
SE_QUAD_CORNERY_XY: 528774.44800 5149671.66600
SW_QUAD_CORNER_XY: 523978.70900 5149650.79500
SECONDARY_NW_QUAD_XY: 523951.95000 5156377.30300
SECONDARY_NE_QUAD_XY: 528742.33700 5156398.17300
SECONDARY_SE_QUAD_XY: 528775.32500 5149453.38800
SECONDARY_SW_QUAD_XY: 523979.44000 5149432.51700
RMSE_XY: 2.06000
IMAGE_SOURCE: BLACK AND WHITE FILM
SOURCE_IMAGE_ID: NAPP 9080-050
SOURCE_IMAGE_DATE: 1996 6 12
SOURCE_DEM_DATE: 1999 0 0
AGENCY: WESTERN MAPPING CENTER (WMC)
PRODUCER: WOOLPERT LLP
PRODUCTION_SYSTEM: INTERGRAPH ISPM, ISIR
COMPRESSION: UNDEFINED
STANDARD_VERSION: 1996 12
METADATA_DATE: 2001 10 10
DATA_FILE_SIZE: 41487446
BYTE_COUNT: 5474
