FILENAME: O4610425.SES.1163666.tif
QUADRANGLE_NAME: LOONY HOLLOW
QUADRANT: SE
WEST_LONGITUDE: -104 56 15.00000
EAST_LONGITUDE: -104 52 30.00000
NORTH_LATITUDE: 46 33 45.00000
SOUTH_LATITUDE: 46 30 0.00000
PRODUCTION_DATE: 2001 9 24
RASTER_ORDER: LEFT_RIGHT/TOP_BOTTOM
BAND_ORGANIZATION: SINGLE FILE
BAND_CONTENT: BLACK&WHITE
BAND_CONTENT: UNDEFINED
BAND_CONTENT: UNDEFINED
BITS_PER_PIXEL: 8
SAMPLES_AND_LINES: 5452 7562
HORIZONTAL_DATUM: NAD83
HORIZONTAL_COORDINATE_SYSTEM: UTM
COORDINATE_ZONE: 13
HORIZONTAL_UNITS: meters
HORIZONTAL_RESOLUTION: 1.00000
SECONDARY_HORIZONTAL_DATUM: NAD27
XY_ORIGIN: 504445.00000 5156862.00000
SECONDARY_XY_ORIGIN: 504485.26200 5156643.06100
NATION: US
STATE: MT
NW_QUAD_CORNER_XY: 504790.24500 5156550.08500
NE_QUAD_CORNER_XY: 509580.49000 5156555.77700
SE_QUAD_CORNERY_XY: 509591.48600 5149610.95100
SW_QUAD_CORNER_XY: 504795.74300 5149605.25900
SECONDARY_NW_QUAD_XY: 504790.39100 5156331.77100
SECONDARY_NE_QUAD_XY: 509580.78200 5156337.46200
SECONDARY_SE_QUAD_XY: 509591.77800 5149392.67100
SECONDARY_SW_QUAD_XY: 504795.88900 5149386.97900
RMSE_XY: 1.38000
IMAGE_SOURCE: BLACK AND WHITE FILM
SOURCE_IMAGE_ID: NAPP 9108-178
SOURCE_IMAGE_DATE: 1996 8 8
SOURCE_IMAGE_ID: NAPP 9108-177
SOURCE_IMAGE_DATE: 1996 8 8
SOURCE_DEM_DATE: 1999 0 0
AGENCY: WESTERN MAPPING CENTER (WMC)
PRODUCER: WOOLPERT LLP
PRODUCTION_SYSTEM: INTERGRAPH ISPM, ISIR
COMPRESSION: UNDEFINED
STANDARD_VERSION: 1996 12
METADATA_DATE: 2001 10 9
DATA_FILE_SIZE: 41233476
BYTE_COUNT: 5452
