FILENAME: O4610424.SWS.1159493.tif
QUADRANGLE_NAME: CARLYLE
QUADRANT: SW
WEST_LONGITUDE: -104 7 30.00000
EAST_LONGITUDE: -104 3 45.00000
NORTH_LATITUDE: 46 41 15.00000
SOUTH_LATITUDE: 46 37 30.00000
PRODUCTION_DATE: 2001 09 17
RASTER_ORDER: LEFT_RIGHT/TOP_BOTTOM
BAND_ORGANIZATION: SINGLE FILE
BAND_CONTENT: BLACK&WHITE
BAND_CONTENT: UNDEFINED
BAND_CONTENT: UNDEFINED
BITS_PER_PIXEL: 8
SAMPLES_AND_LINES: 5510 7612
HORIZONTAL_DATUM: NAD83
HORIZONTAL_COORDINATE_SYSTEM: UTM
COORDINATE_ZONE: 13
HORIZONTAL_UNITS: METERS
HORIZONTAL_RESOLUTION: 1.00000
SECONDARY_HORIZONTAL_DATUM: NAD27
XY_ORIGIN: 566566.00000 5171171.00000
SECONDARY_XY_ORIGIN: 566605.43800 5170951.78700
NATION: US
STATE: MT
NW_QUAD_CORNER_XY: 566909.09500 5170809.83100
NE_QUAD_CORNER_XY: 571688.29300 5170864.83900
SE_QUAD_CORNERY_XY: 571770.94200 5163919.91200
SW_QUAD_CORNER_XY: 566986.23400 5163864.89800
SECONDARY_NW_QUAD_XY: 566911.14400 5170591.46100
SECONDARY_NE_QUAD_XY: 571690.48700 5170646.47000
SECONDARY_SE_QUAD_XY: 571773.13600 5163701.57600
SECONDARY_SW_QUAD_XY: 566988.28200 5163646.56000
RMSE_XY: 2.28000
IMAGE_SOURCE: BLACK AND WHITE FILM
SOURCE_IMAGE_ID: NAPP 8631-078
SOURCE_IMAGE_DATE: 1995 07 28
SOURCE_DEM_DATE: 1999 00 00
AGENCY: WESTERN MAPPING CENTER (WMC)
PRODUCER: WOOLPERT LLP
PRODUCTION_SYSTEM: INTERGRAPH ISPM, ISIR
COMPRESSION: UNDEFINED
STANDARD_VERSION: 1996 12
METADATA_DATE: 2001 9 19
DATA_FILE_SIZE: 41947630
BYTE_COUNT: 5510
