FILENAME: O4610422.NWS.1159479.tif
QUADRANGLE_NAME: CAP ROCK
QUADRANT: NW
WEST_LONGITUDE: -104 22 30.00000
EAST_LONGITUDE: -104 18 45.00000
NORTH_LATITUDE: 46 45 0.00000
SOUTH_LATITUDE: 46 41 15.00000
PRODUCTION_DATE: 2001 9 17
RASTER_ORDER: LEFT_RIGHT/TOP_BOTTOM
BAND_ORGANIZATION: SINGLE FILE
BAND_CONTENT: BLACK&WHITE
BAND_CONTENT: UNDEFINED
BAND_CONTENT: UNDEFINED
BITS_PER_PIXEL: 8
SAMPLES_AND_LINES: 5483 7597
HORIZONTAL_DATUM: NAD83
HORIZONTAL_COORDINATE_SYSTEM: UTM
COORDINATE_ZONE: 13
HORIZONTAL_UNITS: meters
HORIZONTAL_RESOLUTION: 1.00000
SECONDARY_HORIZONTAL_DATUM: NAD27
XY_ORIGIN: 547394.00000 5177919.00000
SECONDARY_XY_ORIGIN: 547433.56900 5177699.67700
NATION: US
STATE: MT
NW_QUAD_CORNER_XY: 547737.10900 5177572.77300
NE_QUAD_CORNER_XY: 552510.80700 5177612.59900
SE_QUAD_CORNERY_XY: 552571.47700 5170667.57300
SW_QUAD_CORNER_XY: 547792.26300 5170627.74100
SECONDARY_NW_QUAD_XY: 547738.57200 5177354.36400
SECONDARY_NE_QUAD_XY: 552512.41700 5177394.19200
SECONDARY_SE_QUAD_XY: 552573.08600 5170449.19800
SECONDARY_SW_QUAD_XY: 547793.72600 5170409.36500
RMSE_XY: 2.42000
IMAGE_SOURCE: BLACK AND WHITE FILM
SOURCE_IMAGE_ID: NAPP 9095-048
SOURCE_IMAGE_DATE: 1996 7 9
SOURCE_IMAGE_ID: NAPP 9095-049
SOURCE_IMAGE_DATE: 1996 7 9
SOURCE_IMAGE_ID: NAPP 9095-047
SOURCE_IMAGE_DATE: 1996 7 9
SOURCE_DEM_DATE: 1999 0 0
AGENCY: WESTERN MAPPING CENTER (WMC)
PRODUCER: WOOLPERT LLP
PRODUCTION_SYSTEM: INTERGRAPH ISPM, ISIR
COMPRESSION: UNDEFINED
STANDARD_VERSION: 1996 12
METADATA_DATE: 2001 9 27
DATA_FILE_SIZE: 41659834
BYTE_COUNT: 5483
