FILENAME: O4610418.NES.1163672.tif
QUADRANGLE_NAME: MILDRED NE
QUADRANT: NE
WEST_LONGITUDE: -104 48 45.00000
EAST_LONGITUDE: -104 45 0.00000
NORTH_LATITUDE: 46 45 0.00000
SOUTH_LATITUDE: 46 41 15.00000
PRODUCTION_DATE: 2001 9 24
RASTER_ORDER: LEFT_RIGHT/TOP_BOTTOM
BAND_ORGANIZATION: SINGLE FILE
BAND_CONTENT: BLACK&WHITE
BAND_CONTENT: UNDEFINED
BAND_CONTENT: UNDEFINED
BITS_PER_PIXEL: 8
SAMPLES_AND_LINES: 5446 7570
HORIZONTAL_DATUM: NAD83
HORIZONTAL_COORDINATE_SYSTEM: UTM
COORDINATE_ZONE: 13
HORIZONTAL_UNITS: meters
HORIZONTAL_RESOLUTION: 1.00000
SECONDARY_HORIZONTAL_DATUM: NAD27
XY_ORIGIN: 513976.00000 5177720.00000
SECONDARY_XY_ORIGIN: 514016.08600 5177500.73600
NATION: US
STATE: MT
NW_QUAD_CORNER_XY: 514321.14800 5177400.19400
NE_QUAD_CORNER_XY: 519094.86300 5177413.46900
SE_QUAD_CORNERY_XY: 519116.92400 5170468.41700
SW_QUAD_CORNER_XY: 514337.69400 5170455.14100
SECONDARY_NW_QUAD_XY: 514321.58700 5177181.78000
SECONDARY_NE_QUAD_XY: 519095.44800 5177195.05600
SECONDARY_SE_QUAD_XY: 519117.50900 5170250.03700
SECONDARY_SW_QUAD_XY: 514338.13300 5170236.75900
RMSE_XY: 2.00000
IMAGE_SOURCE: BLACK AND WHITE FILM
SOURCE_IMAGE_ID: NAPP 9081-012
SOURCE_IMAGE_DATE: 1996 6 12
SOURCE_DEM_DATE: 1999 0 0
AGENCY: WESTERN MAPPING CENTER (WMC)
PRODUCER: WOOLPERT LLP
PRODUCTION_SYSTEM: INTERGRAPH ISPM, ISIR
COMPRESSION: UNDEFINED
STANDARD_VERSION: 1996 12
METADATA_DATE: 2001 10 10
DATA_FILE_SIZE: 41231666
BYTE_COUNT: 5446
