FILENAME: O4610418.NWS.1163673.tif
QUADRANGLE_NAME: MILDRED NE
QUADRANT: NW
WEST_LONGITUDE: -104 52 30.00000
EAST_LONGITUDE: -104 48 45.00000
NORTH_LATITUDE: 46 45 0.00000
SOUTH_LATITUDE: 46 41 15.00000
PRODUCTION_DATE: 2001 9 24
RASTER_ORDER: LEFT_RIGHT/TOP_BOTTOM
BAND_ORGANIZATION: SINGLE FILE
BAND_CONTENT: BLACK&WHITE
BAND_CONTENT: UNDEFINED
BAND_CONTENT: UNDEFINED
BITS_PER_PIXEL: 8
SAMPLES_AND_LINES: 5441 7567
HORIZONTAL_DATUM: NAD83
HORIZONTAL_COORDINATE_SYSTEM: UTM
COORDINATE_ZONE: 13
HORIZONTAL_UNITS: meters
HORIZONTAL_RESOLUTION: 1.00000
SECONDARY_HORIZONTAL_DATUM: NAD27
XY_ORIGIN: 509202.00000 5177707.00000
SECONDARY_XY_ORIGIN: 509242.15100 5177487.74400
NATION: US
STATE: MT
NW_QUAD_CORNER_XY: 509547.43300 5177390.71200
NE_QUAD_CORNER_XY: 514321.14800 5177400.19400
SE_QUAD_CORNERY_XY: 514337.69400 5170455.14100
SW_QUAD_CORNER_XY: 509558.46300 5170445.65700
SECONDARY_NW_QUAD_XY: 509547.72500 5177172.29800
SECONDARY_NE_QUAD_XY: 514321.58700 5177181.78000
SECONDARY_SE_QUAD_XY: 514338.13300 5170236.75900
SECONDARY_SW_QUAD_XY: 509558.75600 5170227.27600
RMSE_XY: 2.20000
IMAGE_SOURCE: BLACK AND WHITE FILM
SOURCE_IMAGE_ID: NAPP 9108-211
SOURCE_IMAGE_DATE: 1996 8 8
SOURCE_IMAGE_ID: NAPP 9108-173
SOURCE_IMAGE_DATE: 1996 8 8
SOURCE_DEM_DATE: 1999 0 0
AGENCY: WESTERN MAPPING CENTER (WMC)
PRODUCER: WOOLPERT LLP
PRODUCTION_SYSTEM: INTERGRAPH ISPM, ISIR
COMPRESSION: UNDEFINED
STANDARD_VERSION: 1996 12
METADATA_DATE: 2001 10 10
DATA_FILE_SIZE: 41177488
BYTE_COUNT: 5441
