FILENAME: O4610417.NWS.1163661.tif
QUADRANGLE_NAME: MILDRED
QUADRANT: NW
WEST_LONGITUDE: -105 0 0.00000
EAST_LONGITUDE: -104 56 15.00000
NORTH_LATITUDE: 46 45 0.00000
SOUTH_LATITUDE: 46 41 15.00000
PRODUCTION_DATE: 2001 9 24
RASTER_ORDER: LEFT_RIGHT/TOP_BOTTOM
BAND_ORGANIZATION: SINGLE FILE
BAND_CONTENT: BLACK&WHITE
BAND_CONTENT: UNDEFINED
BAND_CONTENT: UNDEFINED
BITS_PER_PIXEL: 8
SAMPLES_AND_LINES: 5431 7558
HORIZONTAL_DATUM: NAD83
HORIZONTAL_COORDINATE_SYSTEM: UTM
COORDINATE_ZONE: 13
HORIZONTAL_UNITS: meters
HORIZONTAL_RESOLUTION: 1.00000
SECONDARY_HORIZONTAL_DATUM: NAD27
XY_ORIGIN: 499654.00000 5177691.00000
SECONDARY_XY_ORIGIN: 499694.28300 5177471.75900
NATION: US
STATE: MT
NW_QUAD_CORNER_XY: 500000.00000 5177383.12600
NE_QUAD_CORNER_XY: 504773.71600 5177385.02300
SE_QUAD_CORNERY_XY: 504779.23200 5170439.96700
SW_QUAD_CORNER_XY: 500000.00000 5170438.07100
SECONDARY_NW_QUAD_XY: 500000.00000 5177164.71200
SECONDARY_NE_QUAD_XY: 504773.86300 5177166.60900
SECONDARY_SE_QUAD_XY: 504779.37800 5170221.58600
SECONDARY_SW_QUAD_XY: 500000.00000 5170219.68900
RMSE_XY: 1.41000
IMAGE_SOURCE: BLACK AND WHITE FILM
SOURCE_IMAGE_ID: NAPP 9096-069
SOURCE_IMAGE_DATE: 1996 7 9
SOURCE_IMAGE_ID: NAPP 9108-172
SOURCE_IMAGE_DATE: 1996 8 8
SOURCE_IMAGE_ID: NAPP 9096-068
SOURCE_IMAGE_DATE: 1996 7 9
SOURCE_DEM_DATE: 1999 0 0
AGENCY: WESTERN MAPPING CENTER (WMC)
PRODUCER: WOOLPERT LLP
PRODUCTION_SYSTEM: INTERGRAPH ISPM, ISIR
COMPRESSION: UNDEFINED
STANDARD_VERSION: 1996 12
METADATA_DATE: 2001 10 9
DATA_FILE_SIZE: 41052929
BYTE_COUNT: 5431
