FILENAME: O4610416.NWS.1159486.tif
QUADRANGLE_NAME: DUCK CREEK
QUADRANT: NW
WEST_LONGITUDE: -104 7 30.00000
EAST_LONGITUDE: -104 3 45.00000
NORTH_LATITUDE: 46 52 30.00000
SOUTH_LATITUDE: 46 48 45.00000
PRODUCTION_DATE: 2001 09 17
RASTER_ORDER: LEFT_RIGHT/TOP_BOTTOM
BAND_ORGANIZATION: SINGLE FILE
BAND_CONTENT: BLACK&WHITE
BAND_CONTENT: UNDEFINED
BAND_CONTENT: UNDEFINED
BITS_PER_PIXEL: 8
SAMPLES_AND_LINES: 5494 7613
HORIZONTAL_DATUM: NAD83
HORIZONTAL_COORDINATE_SYSTEM: UTM
COORDINATE_ZONE: 13
HORIZONTAL_UNITS: METERS
HORIZONTAL_RESOLUTION: 1.00000
SECONDARY_HORIZONTAL_DATUM: NAD27
XY_ORIGIN: 566334.00000 5192007.00000
SECONDARY_XY_ORIGIN: 566373.29900 5191787.51100
NATION: US
STATE: MT
NW_QUAD_CORNER_XY: 566677.19900 5191645.07900
NE_QUAD_CORNER_XY: 571439.83000 5191700.06500
SE_QUAD_CORNERY_XY: 571522.73700 5184754.91500
SW_QUAD_CORNER_XY: 566754.57800 5184699.92200
SECONDARY_NW_QUAD_XY: 566679.24900 5191426.61400
SECONDARY_NE_QUAD_XY: 571442.02600 5191481.60200
SECONDARY_SE_QUAD_XY: 571524.93200 5184536.48300
SECONDARY_SW_QUAD_XY: 566756.62700 5184481.48800
RMSE_XY: 2.42000
IMAGE_SOURCE: BLACK AND WHITE FILM
SOURCE_IMAGE_ID: NAPP 8631-072
SOURCE_IMAGE_DATE: 1995 07 28
SOURCE_DEM_DATE: 1999 00 00
AGENCY: WESTERN MAPPING CENTER (WMC)
PRODUCER: WOOLPERT LLP
PRODUCTION_SYSTEM: INTERGRAPH ISPM, ISIR
COMPRESSION: UNDEFINED
STANDARD_VERSION: 1996 12
METADATA_DATE: 2001 9 19
DATA_FILE_SIZE: 41831316
BYTE_COUNT: 5494
