FILENAME: O4610415.NES.1159482.tif
QUADRANGLE_NAME: RED TOP BUTTE
QUADRANT: NE
WEST_LONGITUDE: -104 11 15.00000
EAST_LONGITUDE: -104 7 30.00000
NORTH_LATITUDE: 46 52 30.00000
SOUTH_LATITUDE: 46 48 45.00000
PRODUCTION_DATE: 2001 09 17
RASTER_ORDER: LEFT_RIGHT/TOP_BOTTOM
BAND_ORGANIZATION: SINGLE FILE
BAND_CONTENT: BLACK&WHITE
BAND_CONTENT: UNDEFINED
BAND_CONTENT: UNDEFINED
BITS_PER_PIXEL: 8
SAMPLES_AND_LINES: 5488 7609
HORIZONTAL_DATUM: NAD83
HORIZONTAL_COORDINATE_SYSTEM: UTM
COORDINATE_ZONE: 13
HORIZONTAL_UNITS: METERS
HORIZONTAL_RESOLUTION: 1.00000
SECONDARY_HORIZONTAL_DATUM: NAD27
XY_ORIGIN: 561572.00000 5191952.00000
SECONDARY_XY_ORIGIN: 561611.33500 5191732.48900
NATION: US
STATE: MT
NW_QUAD_CORNER_XY: 561914.56300 5191593.88600
NE_QUAD_CORNER_XY: 566677.19900 5191645.07900
SE_QUAD_CORNERY_XY: 566754.57800 5184699.92200
SW_QUAD_CORNER_XY: 561986.41400 5184648.72200
SECONDARY_NW_QUAD_XY: 561916.46600 5191375.42000
SECONDARY_NE_QUAD_XY: 566679.24900 5191426.61400
SECONDARY_SE_QUAD_XY: 566756.62700 5184481.48800
SECONDARY_SW_QUAD_XY: 561988.31700 5184430.28600
RMSE_XY: 2.25000
IMAGE_SOURCE: BLACK AND WHITE FILM
SOURCE_IMAGE_ID: NAPP 10766-122
SOURCE_IMAGE_DATE: 1998 07 10
SOURCE_DEM_DATE: 1999 00 00
AGENCY: WESTERN MAPPING CENTER (WMC)
PRODUCER: WOOLPERT LLP
PRODUCTION_SYSTEM: INTERGRAPH ISPM, ISIR
COMPRESSION: UNDEFINED
STANDARD_VERSION: 1996 12
METADATA_DATE: 2001 9 19
DATA_FILE_SIZE: 41763680
BYTE_COUNT: 5488
