FILENAME: O4610414.NES.1159474.tif
QUADRANGLE_NAME: HODGES SE
QUADRANT: NE
WEST_LONGITUDE: -104 18 45.00000
EAST_LONGITUDE: -104 15 0.00000
NORTH_LATITUDE: 46 52 30.00000
SOUTH_LATITUDE: 46 48 45.00000
PRODUCTION_DATE: 2001 9 17
RASTER_ORDER: LEFT_RIGHT/TOP_BOTTOM
BAND_ORGANIZATION: SINGLE FILE
BAND_CONTENT: BLACK&WHITE
BAND_CONTENT: UNDEFINED
BAND_CONTENT: UNDEFINED
BITS_PER_PIXEL: 8
SAMPLES_AND_LINES: 5478 7601
HORIZONTAL_DATUM: NAD83
HORIZONTAL_COORDINATE_SYSTEM: UTM
COORDINATE_ZONE: 13
HORIZONTAL_UNITS: meters
HORIZONTAL_RESOLUTION: 1.00000
SECONDARY_HORIZONTAL_DATUM: NAD27
XY_ORIGIN: 552046.00000 5191853.00000
SECONDARY_XY_ORIGIN: 552085.44700 5191633.49200
NATION: US
STATE: MT
NW_QUAD_CORNER_XY: 552389.27800 5191502.87700
NE_QUAD_CORNER_XY: 557151.92300 5191546.48500
SE_QUAD_CORNERY_XY: 557218.24600 5184601.31500
SW_QUAD_CORNER_XY: 552450.07400 5184557.70000
SECONDARY_NW_QUAD_XY: 552390.88800 5191284.40800
SECONDARY_NE_QUAD_XY: 557153.68000 5191328.01800
SECONDARY_SE_QUAD_XY: 557220.00300 5184382.87800
SECONDARY_SW_QUAD_XY: 552451.68400 5184339.26200
RMSE_XY: 2.45000
IMAGE_SOURCE: BLACK AND WHITE FILM
SOURCE_IMAGE_ID: NAPP 9124-034
SOURCE_IMAGE_DATE: 1997 8 22
SOURCE_IMAGE_ID: NAPP 9095-053
SOURCE_IMAGE_DATE: 1996 7 9
SOURCE_IMAGE_ID: NAPP 9124-033
SOURCE_IMAGE_DATE: 1997 8 22
SOURCE_DEM_DATE: 1999 0 0
AGENCY: WESTERN MAPPING CENTER (WMC)
PRODUCER: WOOLPERT LLP
PRODUCTION_SYSTEM: INTERGRAPH ISPM, ISIR
COMPRESSION: UNDEFINED
STANDARD_VERSION: 1996 12
METADATA_DATE: 2001 9 27
DATA_FILE_SIZE: 41643756
BYTE_COUNT: 5478
