FILENAME: O4610414.NWS.1159475.tif
QUADRANGLE_NAME: HODGES SE
QUADRANT: NW
WEST_LONGITUDE: -104 22 30.00000
EAST_LONGITUDE: -104 18 45.00000
NORTH_LATITUDE: 46 52 30.00000
SOUTH_LATITUDE: 46 48 45.00000
PRODUCTION_DATE: 2001 9 17
RASTER_ORDER: LEFT_RIGHT/TOP_BOTTOM
BAND_ORGANIZATION: SINGLE FILE
BAND_CONTENT: BLACK&WHITE
BAND_CONTENT: UNDEFINED
BAND_CONTENT: UNDEFINED
BITS_PER_PIXEL: 8
SAMPLES_AND_LINES: 5473 7597
HORIZONTAL_DATUM: NAD83
HORIZONTAL_COORDINATE_SYSTEM: UTM
COORDINATE_ZONE: 13
HORIZONTAL_UNITS: meters
HORIZONTAL_RESOLUTION: 1.00000
SECONDARY_HORIZONTAL_DATUM: NAD27
XY_ORIGIN: 547283.00000 5191809.00000
SECONDARY_XY_ORIGIN: 547322.52100 5191589.51000
NATION: US
STATE: MT
NW_QUAD_CORNER_XY: 547626.62900 5191463.06100
NE_QUAD_CORNER_XY: 552389.27800 5191502.87700
SE_QUAD_CORNERY_XY: 552450.07400 5184557.70000
SW_QUAD_CORNER_XY: 547681.89800 5184517.87900
SECONDARY_NW_QUAD_XY: 547628.09300 5191244.59100
SECONDARY_NE_QUAD_XY: 552390.88800 5191284.40800
SECONDARY_SE_QUAD_XY: 552451.68400 5184339.26200
SECONDARY_SW_QUAD_XY: 547683.36100 5184299.43900
RMSE_XY: 2.65000
IMAGE_SOURCE: BLACK AND WHITE FILM
SOURCE_IMAGE_ID: NAPP 9095-052
SOURCE_IMAGE_DATE: 1996 7 9
SOURCE_IMAGE_ID: NAPP 9095-053
SOURCE_IMAGE_DATE: 1996 7 9
SOURCE_DEM_DATE: 1999 0 0
AGENCY: WESTERN MAPPING CENTER (WMC)
PRODUCER: WOOLPERT LLP
PRODUCTION_SYSTEM: INTERGRAPH ISPM, ISIR
COMPRESSION: UNDEFINED
STANDARD_VERSION: 1996 12
METADATA_DATE: 2001 9 27
DATA_FILE_SIZE: 41583854
BYTE_COUNT: 5473
