FILENAME: O4610413.NWS.1159467.tif
QUADRANGLE_NAME: HODGES SW
QUADRANT: NW
WEST_LONGITUDE: -104 30 0.00000
EAST_LONGITUDE: -104 26 15.00000
NORTH_LATITUDE: 46 52 30.00000
SOUTH_LATITUDE: 46 48 45.00000
PRODUCTION_DATE: 2001 9 17
RASTER_ORDER: LEFT_RIGHT/TOP_BOTTOM
BAND_ORGANIZATION: SINGLE FILE
BAND_CONTENT: BLACK&WHITE
BAND_CONTENT: UNDEFINED
BAND_CONTENT: UNDEFINED
BITS_PER_PIXEL: 8
SAMPLES_AND_LINES: 5462 7590
HORIZONTAL_DATUM: NAD83
HORIZONTAL_COORDINATE_SYSTEM: UTM
COORDINATE_ZONE: 13
HORIZONTAL_UNITS: meters
HORIZONTAL_RESOLUTION: 1.00000
SECONDARY_HORIZONTAL_DATUM: NAD27
XY_ORIGIN: 537757.00000 5191734.00000
SECONDARY_XY_ORIGIN: 537796.66800 5191514.54400
NATION: US
STATE: MT
NW_QUAD_CORNER_XY: 538101.32100 5191394.80600
NE_QUAD_CORNER_XY: 542863.97600 5191427.03700
SE_QUAD_CORNERY_XY: 542913.71800 5184481.85100
SW_QUAD_CORNER_XY: 538145.53500 5184449.61500
SECONDARY_NW_QUAD_XY: 538102.49200 5191176.33400
SECONDARY_NE_QUAD_XY: 542865.29400 5191208.56600
SECONDARY_SE_QUAD_XY: 542915.03500 5184263.41000
SECONDARY_SW_QUAD_XY: 538146.70600 5184231.17300
RMSE_XY: 1.17000
IMAGE_SOURCE: BLACK AND WHITE FILM
SOURCE_IMAGE_ID: NAPP 9107-020
SOURCE_IMAGE_DATE: 1996 8 7
SOURCE_IMAGE_ID: NAPP 9107-019
SOURCE_IMAGE_DATE: 1996 8 7
SOURCE_DEM_DATE: 1999 0 0
AGENCY: WESTERN MAPPING CENTER (WMC)
PRODUCER: WOOLPERT LLP
PRODUCTION_SYSTEM: INTERGRAPH ISPM, ISIR
COMPRESSION: UNDEFINED
STANDARD_VERSION: 1996 12
METADATA_DATE: 2001 9 27
DATA_FILE_SIZE: 41462042
BYTE_COUNT: 5462
