FILENAME: O4610412.SES.1163650.tif
QUADRANGLE_NAME: GRAVEYARD HILL
QUADRANT: SE
WEST_LONGITUDE: -104 33 45.00000
EAST_LONGITUDE: -104 30 0.00000
NORTH_LATITUDE: 46 48 45.00000
SOUTH_LATITUDE: 46 45 0.00000
PRODUCTION_DATE: 2001 9 24
RASTER_ORDER: LEFT_RIGHT/TOP_BOTTOM
BAND_ORGANIZATION: SINGLE FILE
BAND_CONTENT: BLACK&WHITE
BAND_CONTENT: UNDEFINED
BAND_CONTENT: UNDEFINED
BITS_PER_PIXEL: 8
SAMPLES_AND_LINES: 5462 7585
HORIZONTAL_DATUM: NAD83
HORIZONTAL_COORDINATE_SYSTEM: UTM
COORDINATE_ZONE: 13
HORIZONTAL_UNITS: meters
HORIZONTAL_RESOLUTION: 1.00000
SECONDARY_HORIZONTAL_DATUM: NAD27
XY_ORIGIN: 533033.00000 5184756.00000
SECONDARY_XY_ORIGIN: 533072.76400 5184536.63400
NATION: US
STATE: MT
NW_QUAD_CORNER_XY: 533377.34900 5184421.17100
NE_QUAD_CORNER_XY: 538145.53500 5184449.61500
SE_QUAD_CORNERY_XY: 538189.70300 5177504.49900
SW_QUAD_CORNER_XY: 533415.99600 5177476.05200
SECONDARY_NW_QUAD_XY: 533378.37400 5184202.72900
SECONDARY_NE_QUAD_XY: 538146.70600 5184231.17300
SECONDARY_SE_QUAD_XY: 538190.87400 5177286.08900
SECONDARY_SW_QUAD_XY: 533417.02100 5177257.64100
RMSE_XY: 2.35000
IMAGE_SOURCE: BLACK AND WHITE FILM
SOURCE_IMAGE_ID: NAPP 9108-079
SOURCE_IMAGE_DATE: 1996 8 8
SOURCE_DEM_DATE: 1999 0 0
AGENCY: WESTERN MAPPING CENTER (WMC)
PRODUCER: WOOLPERT LLP
PRODUCTION_SYSTEM: INTERGRAPH ISPM, ISIR
COMPRESSION: UNDEFINED
STANDARD_VERSION: 1996 12
METADATA_DATE: 2001 10 10
DATA_FILE_SIZE: 41434732
BYTE_COUNT: 5462
