FILENAME: O4610411.SES.1163634.tif
QUADRANGLE_NAME: GRAVEYARD HILL SW
QUADRANT: SE
WEST_LONGITUDE: -104 41 15.00000
EAST_LONGITUDE: -104 37 30.00000
NORTH_LATITUDE: 46 48 45.00000
SOUTH_LATITUDE: 46 45 0.00000
PRODUCTION_DATE: 2001 9 24
RASTER_ORDER: LEFT_RIGHT/TOP_BOTTOM
BAND_ORGANIZATION: SINGLE FILE
BAND_CONTENT: BLACK&WHITE
BAND_CONTENT: UNDEFINED
BAND_CONTENT: UNDEFINED
BITS_PER_PIXEL: 8
SAMPLES_AND_LINES: 5452 7578
HORIZONTAL_DATUM: NAD83
HORIZONTAL_COORDINATE_SYSTEM: UTM
COORDINATE_ZONE: 13
HORIZONTAL_UNITS: meters
HORIZONTAL_RESOLUTION: 1.00000
SECONDARY_HORIZONTAL_DATUM: NAD27
XY_ORIGIN: 523496.00000 5184703.00000
SECONDARY_XY_ORIGIN: 523535.91500 5184483.63200
NATION: US
STATE: MT
NW_QUAD_CORNER_XY: 523840.97100 5184375.66300
NE_QUAD_CORNER_XY: 528609.16100 5184396.52100
SE_QUAD_CORNERY_XY: 528642.28700 5177451.39800
SW_QUAD_CORNER_XY: 523868.57600 5177430.53700
SECONDARY_NW_QUAD_XY: 523841.70200 5184157.21900
SECONDARY_NE_QUAD_XY: 528610.03900 5184178.07700
SECONDARY_SE_QUAD_XY: 528643.16500 5177232.98600
SECONDARY_SW_QUAD_XY: 523869.30700 5177212.12400
RMSE_XY: 2.07000
IMAGE_SOURCE: BLACK AND WHITE FILM
SOURCE_IMAGE_ID: NAPP 9080-058
SOURCE_IMAGE_DATE: 1996 6 12
SOURCE_IMAGE_ID: NAPP 9080-202
SOURCE_IMAGE_DATE: 1996 6 12
SOURCE_DEM_DATE: 1999 0 0
AGENCY: WESTERN MAPPING CENTER (WMC)
PRODUCER: WOOLPERT LLP
PRODUCTION_SYSTEM: INTERGRAPH ISPM, ISIR
COMPRESSION: UNDEFINED
STANDARD_VERSION: 1996 12
METADATA_DATE: 2001 10 10
DATA_FILE_SIZE: 41320708
BYTE_COUNT: 5452
