FILENAME: O4610411.SWS.1163635.tif
QUADRANGLE_NAME: GRAVEYARD HILL SW
QUADRANT: SW
WEST_LONGITUDE: -104 45 0.00000
EAST_LONGITUDE: -104 41 15.00000
NORTH_LATITUDE: 46 48 45.00000
SOUTH_LATITUDE: 46 45 0.00000
PRODUCTION_DATE: 2001 9 24
RASTER_ORDER: LEFT_RIGHT/TOP_BOTTOM
BAND_ORGANIZATION: SINGLE FILE
BAND_CONTENT: BLACK&WHITE
BAND_CONTENT: UNDEFINED
BAND_CONTENT: UNDEFINED
BITS_PER_PIXEL: 8
SAMPLES_AND_LINES: 5446 7574
HORIZONTAL_DATUM: NAD83
HORIZONTAL_COORDINATE_SYSTEM: UTM
COORDINATE_ZONE: 13
HORIZONTAL_UNITS: meters
HORIZONTAL_RESOLUTION: 1.00000
SECONDARY_HORIZONTAL_DATUM: NAD27
XY_ORIGIN: 518728.00000 5184682.00000
SECONDARY_XY_ORIGIN: 518767.99000 5184462.63100
NATION: US
STATE: MT
NW_QUAD_CORNER_XY: 519072.77900 5184358.59700
NE_QUAD_CORNER_XY: 523840.97100 5184375.66300
SE_QUAD_CORNERY_XY: 523868.57600 5177430.53700
SW_QUAD_CORNER_XY: 519094.86300 5177413.46900
SECONDARY_NW_QUAD_XY: 519073.36400 5184140.15200
SECONDARY_NE_QUAD_XY: 523841.70200 5184157.21900
SECONDARY_SE_QUAD_XY: 523869.30700 5177212.12400
SECONDARY_SW_QUAD_XY: 519095.44800 5177195.05600
RMSE_XY: 2.15000
IMAGE_SOURCE: BLACK AND WHITE FILM
SOURCE_IMAGE_ID: NAPP 9080-203
SOURCE_IMAGE_DATE: 1996 6 12
SOURCE_IMAGE_ID: NAPP 9080-202
SOURCE_IMAGE_DATE: 1996 6 12
SOURCE_DEM_DATE: 1999 0 0
AGENCY: WESTERN MAPPING CENTER (WMC)
PRODUCER: WOOLPERT LLP
PRODUCTION_SYSTEM: INTERGRAPH ISPM, ISIR
COMPRESSION: UNDEFINED
STANDARD_VERSION: 1996 12
METADATA_DATE: 2001 10 10
DATA_FILE_SIZE: 41253450
BYTE_COUNT: 5446
