FILENAME: O4610410.SWS.1163671.tif
QUADRANGLE_NAME: SIMONS BUTTE
QUADRANT: SW
WEST_LONGITUDE: -104 52 30.00000
EAST_LONGITUDE: -104 48 45.00000
NORTH_LATITUDE: 46 48 45.00000
SOUTH_LATITUDE: 46 45 0.00000
PRODUCTION_DATE: 2001 9 24
RASTER_ORDER: LEFT_RIGHT/TOP_BOTTOM
BAND_ORGANIZATION: SINGLE FILE
BAND_CONTENT: BLACK&WHITE
BAND_CONTENT: UNDEFINED
BAND_CONTENT: UNDEFINED
BITS_PER_PIXEL: 8
SAMPLES_AND_LINES: 5436 7567
HORIZONTAL_DATUM: NAD83
HORIZONTAL_COORDINATE_SYSTEM: UTM
COORDINATE_ZONE: 13
HORIZONTAL_UNITS: meters
HORIZONTAL_RESOLUTION: 1.00000
SECONDARY_HORIZONTAL_DATUM: NAD27
XY_ORIGIN: 509191.00000 5184652.00000
SECONDARY_XY_ORIGIN: 509231.12100 5184432.64300
NATION: US
STATE: MT
NW_QUAD_CORNER_XY: 509536.39100 5184335.84300
NE_QUAD_CORNER_XY: 514304.58500 5184345.32300
SE_QUAD_CORNERY_XY: 514321.14800 5177400.19400
SW_QUAD_CORNER_XY: 509547.43300 5177390.71200
SECONDARY_NW_QUAD_XY: 509536.68300 5184117.39700
SECONDARY_NE_QUAD_XY: 514305.02400 5184126.87900
SECONDARY_SE_QUAD_XY: 514321.58700 5177181.78000
SECONDARY_SW_QUAD_XY: 509547.72500 5177172.29800
RMSE_XY: 2.33000
IMAGE_SOURCE: BLACK AND WHITE FILM
SOURCE_IMAGE_ID: NAPP 9108-213
SOURCE_IMAGE_DATE: 1996 8 8
SOURCE_DEM_DATE: 1999 0 0
AGENCY: WESTERN MAPPING CENTER (WMC)
PRODUCER: WOOLPERT LLP
PRODUCTION_SYSTEM: INTERGRAPH ISPM, ISIR
COMPRESSION: UNDEFINED
STANDARD_VERSION: 1996 12
METADATA_DATE: 2001 10 10
DATA_FILE_SIZE: 41139648
BYTE_COUNT: 5436
