FILENAME: O4610409.NES.1163656.tif
QUADRANGLE_NAME: MARSH SW
QUADRANT: NE
WEST_LONGITUDE: -104 56 15.00000
EAST_LONGITUDE: -104 52 30.00000
NORTH_LATITUDE: 46 52 30.00000
SOUTH_LATITUDE: 46 48 45.00000
PRODUCTION_DATE: 2001 9 24
RASTER_ORDER: LEFT_RIGHT/TOP_BOTTOM
BAND_ORGANIZATION: SINGLE FILE
BAND_CONTENT: BLACK&WHITE
BAND_CONTENT: UNDEFINED
BAND_CONTENT: UNDEFINED
BITS_PER_PIXEL: 8
SAMPLES_AND_LINES: 5425 7563
HORIZONTAL_DATUM: NAD83
HORIZONTAL_COORDINATE_SYSTEM: UTM
COORDINATE_ZONE: 13
HORIZONTAL_UNITS: meters
HORIZONTAL_RESOLUTION: 1.00000
SECONDARY_HORIZONTAL_DATUM: NAD27
XY_ORIGIN: 504417.00000 5191588.00000
SECONDARY_XY_ORIGIN: 504457.15500 5191368.54500
NATION: US
STATE: MT
NW_QUAD_CORNER_XY: 504762.66900 5191275.36200
NE_QUAD_CORNER_XY: 509525.33700 5191281.04900
SE_QUAD_CORNERY_XY: 509536.39100 5184335.84300
SW_QUAD_CORNER_XY: 504768.19600 5184330.15400
SECONDARY_NW_QUAD_XY: 504762.81500 5191056.88600
SECONDARY_NE_QUAD_XY: 509525.63000 5191062.57400
SECONDARY_SE_QUAD_XY: 509536.68300 5184117.39700
SECONDARY_SW_QUAD_XY: 504768.34200 5184111.70900
RMSE_XY: 1.32000
IMAGE_SOURCE: BLACK AND WHITE FILM
SOURCE_IMAGE_ID: NAPP 9108-168
SOURCE_IMAGE_DATE: 1996 8 8
SOURCE_DEM_DATE: 1999 0 0
AGENCY: WESTERN MAPPING CENTER (WMC)
PRODUCER: WOOLPERT LLP
PRODUCTION_SYSTEM: INTERGRAPH ISPM, ISIR
COMPRESSION: UNDEFINED
STANDARD_VERSION: 1996 12
METADATA_DATE: 2001 10 9
DATA_FILE_SIZE: 41034700
BYTE_COUNT: 5425
