FILENAME: O4610408.NWS.1159454.tif
QUADRANGLE_NAME: BEACH WEST
QUADRANT: NW
WEST_LONGITUDE: -104 7 30.00000
EAST_LONGITUDE: -104 3 45.00000
NORTH_LATITUDE: 47 0 0.00000
SOUTH_LATITUDE: 46 56 15.00000
PRODUCTION_DATE: 2001 9 16
RASTER_ORDER: LEFT_RIGHT/TOP_BOTTOM
BAND_ORGANIZATION: SINGLE FILE
BAND_CONTENT: BLACK&WHITE
BAND_CONTENT: UNDEFINED
BAND_CONTENT: UNDEFINED
BITS_PER_PIXEL: 8
SAMPLES_AND_LINES: 5482 7612
HORIZONTAL_DATUM: NAD83
HORIZONTAL_COORDINATE_SYSTEM: UTM
COORDINATE_ZONE: 13
HORIZONTAL_UNITS: meters
HORIZONTAL_RESOLUTION: 1.00000
SECONDARY_HORIZONTAL_DATUM: NAD27
XY_ORIGIN: 566180.00000 5205897.00000
SECONDARY_XY_ORIGIN: 566219.22500 5205677.36300
NATION: US
STATE: MT
NW_QUAD_CORNER_XY: 566522.20200 5205535.61600
NE_QUAD_CORNER_XY: 571273.76000 5205590.58600
SE_QUAD_CORNERY_XY: 571356.83800 5198645.28800
SW_QUAD_CORNER_XY: 566599.74100 5198590.31000
SECONDARY_NW_QUAD_XY: 566524.25200 5205317.09300
SECONDARY_NE_QUAD_XY: 571275.95700 5205372.06500
SECONDARY_SE_QUAD_XY: 571359.03400 5198426.79600
SECONDARY_SW_QUAD_XY: 566601.79000 5198371.81600
RMSE_XY: 2.22000
IMAGE_SOURCE: BLACK AND WHITE FILM
SOURCE_IMAGE_ID: NAPP 8631-068
SOURCE_IMAGE_DATE: 1995 7 28
SOURCE_DEM_DATE: 1999 0 0
AGENCY: WESTERN MAPPING CENTER (WMC)
PRODUCER: WOOLPERT LLP
PRODUCTION_SYSTEM: INTERGRAPH ISPM, ISIR
COMPRESSION: UNDEFINED
STANDARD_VERSION: 1996 12
METADATA_DATE: 2001 9 27
DATA_FILE_SIZE: 41734466
BYTE_COUNT: 5482
