FILENAME: O4610406.NWS.1159420.tif
QUADRANGLE_NAME: FREEMAN CREEK
QUADRANT: NW
WEST_LONGITUDE: -104 22 30.00000
EAST_LONGITUDE: -104 18 45.00000
NORTH_LATITUDE: 47 0 0.00000
SOUTH_LATITUDE: 46 56 15.00000
PRODUCTION_DATE: 2001 9 15
RASTER_ORDER: LEFT_RIGHT/TOP_BOTTOM
BAND_ORGANIZATION: SINGLE FILE
BAND_CONTENT: BLACK&WHITE
BAND_CONTENT: UNDEFINED
BAND_CONTENT: UNDEFINED
BITS_PER_PIXEL: 8
SAMPLES_AND_LINES: 5462 7597
HORIZONTAL_DATUM: NAD83
HORIZONTAL_COORDINATE_SYSTEM: UTM
COORDINATE_ZONE: 13
HORIZONTAL_UNITS: meters
HORIZONTAL_RESOLUTION: 1.00000
SECONDARY_HORIZONTAL_DATUM: NAD27
XY_ORIGIN: 547172.00000 5205700.00000
SECONDARY_XY_ORIGIN: 547211.47200 5205480.34600
NATION: US
STATE: MT
NW_QUAD_CORNER_XY: 547515.92100 5205353.65100
NE_QUAD_CORNER_XY: 552267.49800 5205393.45500
SE_QUAD_CORNERY_XY: 552328.41900 5198448.12800
SW_QUAD_CORNER_XY: 547571.30300 5198408.31800
SECONDARY_NW_QUAD_XY: 547517.38500 5205135.12200
SECONDARY_NE_QUAD_XY: 552269.10900 5205174.92800
SECONDARY_SE_QUAD_XY: 552330.03000 5198229.63000
SECONDARY_SW_QUAD_XY: 547572.76700 5198189.81800
RMSE_XY: 1.24000
IMAGE_SOURCE: BLACK AND WHITE FILM
SOURCE_IMAGE_ID: NAPP 9095-056
SOURCE_IMAGE_DATE: 1996 7 9
SOURCE_IMAGE_ID: NAPP 9095-057
SOURCE_IMAGE_DATE: 1996 7 9
SOURCE_IMAGE_ID: NAPP 9095-055
SOURCE_IMAGE_DATE: 1996 7 9
SOURCE_DEM_DATE: 1999 0 0
AGENCY: WESTERN MAPPING CENTER (WMC)
PRODUCER: WOOLPERT LLP
PRODUCTION_SYSTEM: INTERGRAPH ISPM, ISIR
COMPRESSION: UNDEFINED
STANDARD_VERSION: 1996 12
METADATA_DATE: 2001 9 27
DATA_FILE_SIZE: 41500276
BYTE_COUNT: 5462
