FILENAME: O4610406.SES.1159421.tif
QUADRANGLE_NAME: FREEMAN CREEK
QUADRANT: SE
WEST_LONGITUDE: -104 18 45.00000
EAST_LONGITUDE: -104 15 0.00000
NORTH_LATITUDE: 46 56 15.00000
SOUTH_LATITUDE: 46 52 30.00000
PRODUCTION_DATE: 2001 9 15
RASTER_ORDER: LEFT_RIGHT/TOP_BOTTOM
BAND_ORGANIZATION: SINGLE FILE
BAND_CONTENT: BLACK&WHITE
BAND_CONTENT: UNDEFINED
BAND_CONTENT: UNDEFINED
BITS_PER_PIXEL: 8
SAMPLES_AND_LINES: 5472 7601
HORIZONTAL_DATUM: NAD83
HORIZONTAL_COORDINATE_SYSTEM: UTM
COORDINATE_ZONE: 13
HORIZONTAL_UNITS: meters
HORIZONTAL_RESOLUTION: 1.00000
SECONDARY_HORIZONTAL_DATUM: NAD27
XY_ORIGIN: 551985.00000 5198798.00000
SECONDARY_XY_ORIGIN: 552024.42100 5198578.41300
NATION: US
STATE: MT
NW_QUAD_CORNER_XY: 552328.41900 5198448.12800
NE_QUAD_CORNER_XY: 557085.53100 5198491.73000
SE_QUAD_CORNERY_XY: 557151.92300 5191546.48500
SW_QUAD_CORNER_XY: 552389.27800 5191502.87700
SECONDARY_NW_QUAD_XY: 552330.03000 5198229.63000
SECONDARY_NE_QUAD_XY: 557087.28800 5198273.23300
SECONDARY_SE_QUAD_XY: 557153.68000 5191328.01800
SECONDARY_SW_QUAD_XY: 552390.88800 5191284.40800
RMSE_XY: 1.18000
IMAGE_SOURCE: BLACK AND WHITE FILM
SOURCE_IMAGE_ID: NAPP 9124-036
SOURCE_IMAGE_DATE: 1997 8 22
SOURCE_IMAGE_ID: NAPP 9095-053
SOURCE_IMAGE_DATE: 1996 7 9
SOURCE_IMAGE_ID: NAPP 9095-055
SOURCE_IMAGE_DATE: 1996 7 9
SOURCE_DEM_DATE: 1999 0 0
AGENCY: WESTERN MAPPING CENTER (WMC)
PRODUCER: WOOLPERT LLP
PRODUCTION_SYSTEM: INTERGRAPH ISPM, ISIR
COMPRESSION: UNDEFINED
STANDARD_VERSION: 1996 12
METADATA_DATE: 2001 9 27
DATA_FILE_SIZE: 41598144
BYTE_COUNT: 5472
