FILENAME: O4610406.SWS.1159422.tif
QUADRANGLE_NAME: FREEMAN CREEK
QUADRANT: SW
WEST_LONGITUDE: -104 22 30.00000
EAST_LONGITUDE: -104 18 45.00000
NORTH_LATITUDE: 46 56 15.00000
SOUTH_LATITUDE: 46 52 30.00000
PRODUCTION_DATE: 2001 9 15
RASTER_ORDER: LEFT_RIGHT/TOP_BOTTOM
BAND_ORGANIZATION: SINGLE FILE
BAND_CONTENT: BLACK&WHITE
BAND_CONTENT: UNDEFINED
BAND_CONTENT: UNDEFINED
BITS_PER_PIXEL: 8
SAMPLES_AND_LINES: 5467 7597
HORIZONTAL_DATUM: NAD83
HORIZONTAL_COORDINATE_SYSTEM: UTM
COORDINATE_ZONE: 13
HORIZONTAL_UNITS: meters
HORIZONTAL_RESOLUTION: 1.00000
SECONDARY_HORIZONTAL_DATUM: NAD27
XY_ORIGIN: 547228.00000 5198755.00000
SECONDARY_XY_ORIGIN: 547267.49700 5198535.42700
NATION: US
STATE: MT
NW_QUAD_CORNER_XY: 547571.30300 5198408.31800
NE_QUAD_CORNER_XY: 552328.41900 5198448.12800
SE_QUAD_CORNERY_XY: 552389.27800 5191502.87700
SW_QUAD_CORNER_XY: 547626.62900 5191463.06100
SECONDARY_NW_QUAD_XY: 547572.76700 5198189.81800
SECONDARY_NE_QUAD_XY: 552330.03000 5198229.63000
SECONDARY_SE_QUAD_XY: 552390.88800 5191284.40800
SECONDARY_SW_QUAD_XY: 547628.09300 5191244.59100
RMSE_XY: 1.28000
IMAGE_SOURCE: BLACK AND WHITE FILM
SOURCE_IMAGE_ID: NAPP 9095-054
SOURCE_IMAGE_DATE: 1996 7 9
SOURCE_IMAGE_ID: NAPP 9095-053
SOURCE_IMAGE_DATE: 1996 7 9
SOURCE_IMAGE_ID: NAPP 9095-055
SOURCE_IMAGE_DATE: 1996 7 9
SOURCE_DEM_DATE: 1999 0 0
AGENCY: WESTERN MAPPING CENTER (WMC)
PRODUCER: WOOLPERT LLP
PRODUCTION_SYSTEM: INTERGRAPH ISPM, ISIR
COMPRESSION: UNDEFINED
STANDARD_VERSION: 1996 12
METADATA_DATE: 2001 9 27
DATA_FILE_SIZE: 41538266
BYTE_COUNT: 5467
