FILENAME: O4610404.NWS.1163645.tif
QUADRANGLE_NAME: TWIN FORKS RESERVOIR
QUADRANT: NW
WEST_LONGITUDE: -104 37 30.00000
EAST_LONGITUDE: -104 33 45.00000
NORTH_LATITUDE: 47 0 0.00000
SOUTH_LATITUDE: 46 56 15.00000
PRODUCTION_DATE: 2001 9 24
RASTER_ORDER: LEFT_RIGHT/TOP_BOTTOM
BAND_ORGANIZATION: SINGLE FILE
BAND_CONTENT: BLACK&WHITE
BAND_CONTENT: UNDEFINED
BAND_CONTENT: UNDEFINED
BITS_PER_PIXEL: 8
SAMPLES_AND_LINES: 5440 7583
HORIZONTAL_DATUM: NAD83
HORIZONTAL_COORDINATE_SYSTEM: UTM
COORDINATE_ZONE: 13
HORIZONTAL_UNITS: meters
HORIZONTAL_RESOLUTION: 1.00000
SECONDARY_HORIZONTAL_DATUM: NAD27
XY_ORIGIN: 528165.00000 5205564.00000
SECONDARY_XY_ORIGIN: 528204.76200 5205344.35700
NATION: US
STATE: MT
NW_QUAD_CORNER_XY: 528509.57700 5205232.34400
NE_QUAD_CORNER_XY: 533261.16700 5205256.98400
SE_QUAD_CORNERY_XY: 533299.93500 5198311.63700
SW_QUAD_CORNER_XY: 528542.80600 5198286.99400
SECONDARY_NW_QUAD_XY: 528510.45600 5205013.81100
SECONDARY_NE_QUAD_XY: 533262.19200 5205038.45200
SECONDARY_SE_QUAD_XY: 533300.95900 5198093.13500
SECONDARY_SW_QUAD_XY: 528543.68400 5198068.49000
RMSE_XY: 2.20000
IMAGE_SOURCE: BLACK AND WHITE FILM
SOURCE_IMAGE_ID: NAPP 9108-038
SOURCE_IMAGE_DATE: 1996 8 8
SOURCE_IMAGE_ID: NAPP 9080-064
SOURCE_IMAGE_DATE: 1996 6 12
SOURCE_IMAGE_ID: NAPP 9108-039
SOURCE_IMAGE_DATE: 1996 8 8
SOURCE_IMAGE_ID: NAPP 9108-037
SOURCE_IMAGE_DATE: 1996 8 8
SOURCE_IMAGE_ID: NAPP 9080-065
SOURCE_IMAGE_DATE: 1996 6 12
SOURCE_DEM_DATE: 1999 0 0
AGENCY: WESTERN MAPPING CENTER (WMC)
PRODUCER: WOOLPERT LLP
PRODUCTION_SYSTEM: INTERGRAPH ISPM, ISIR
COMPRESSION: UNDEFINED
STANDARD_VERSION: 1996 12
METADATA_DATE: 2001 10 10
DATA_FILE_SIZE: 41256960
BYTE_COUNT: 5440
