FILENAME: O4610403.SES.1160713.tif
QUADRANGLE_NAME: UPPER MAGPIE RESERVOIR
QUADRANT: SE
WEST_LONGITUDE: -104 41 15.00000
EAST_LONGITUDE: -104 37 30.00000
NORTH_LATITUDE: 46 56 15.00000
SOUTH_LATITUDE: 46 52 30.00000
PRODUCTION_DATE: 2001 9 21
RASTER_ORDER: LEFT_RIGHT/TOP_BOTTOM
BAND_ORGANIZATION: SINGLE FILE
BAND_CONTENT: BLACK&WHITE
BAND_CONTENT: UNDEFINED
BAND_CONTENT: UNDEFINED
BITS_PER_PIXEL: 8
SAMPLES_AND_LINES: 5441 7579
HORIZONTAL_DATUM: NAD83
HORIZONTAL_COORDINATE_SYSTEM: UTM
COORDINATE_ZONE: 13
HORIZONTAL_UNITS: meters
HORIZONTAL_RESOLUTION: 1.00000
SECONDARY_HORIZONTAL_DATUM: NAD27
XY_ORIGIN: 523441.00000 5198594.00000
SECONDARY_XY_ORIGIN: 523480.85800 5198374.44400
NATION: US
STATE: MT
NW_QUAD_CORNER_XY: 523785.67500 5198266.14100
NE_QUAD_CORNER_XY: 528542.80600 5198286.99400
SE_QUAD_CORNERY_XY: 528576.00100 5191341.71900
SW_QUAD_CORNER_XY: 523813.33700 5191320.86400
SECONDARY_NW_QUAD_XY: 523786.40700 5198047.63700
SECONDARY_NE_QUAD_XY: 528543.68400 5198068.49000
SECONDARY_SE_QUAD_XY: 528576.87900 5191123.24500
SECONDARY_SW_QUAD_XY: 523814.06900 5191102.38900
RMSE_XY: 2.03000
IMAGE_SOURCE: BLACK AND WHITE FILM
SOURCE_IMAGE_ID: NAPP 9080-062
SOURCE_IMAGE_DATE: 1996 6 12
SOURCE_IMAGE_ID: NAPP 9108-035
SOURCE_IMAGE_DATE: 1996 8 8
SOURCE_DEM_DATE: 1999 0 0
AGENCY: WESTERN MAPPING CENTER (WMC)
PRODUCER: WOOLPERT LLP
PRODUCTION_SYSTEM: INTERGRAPH ISPM, ISIR
COMPRESSION: UNDEFINED
STANDARD_VERSION: 1996 12
METADATA_DATE: 2001 10 3
DATA_FILE_SIZE: 41242780
BYTE_COUNT: 5441
