FILENAME: O4610401.NES.1163704.tif
QUADRANGLE_NAME: MARSH
QUADRANT: NE
WEST_LONGITUDE: -104 56 15.00000
EAST_LONGITUDE: -104 52 30.00000
NORTH_LATITUDE: 47 0 0.00000
SOUTH_LATITUDE: 46 56 15.00000
PRODUCTION_DATE: 2001 8 28
RASTER_ORDER: LEFT_RIGHT/TOP_BOTTOM
BAND_ORGANIZATION: SINGLE FILE
BAND_CONTENT: BLACK&WHITE
BAND_CONTENT: UNDEFINED
BAND_CONTENT: UNDEFINED
BITS_PER_PIXEL: 8
SAMPLES_AND_LINES: 5414 7563
HORIZONTAL_DATUM: NAD83
HORIZONTAL_COORDINATE_SYSTEM: UTM
COORDINATE_ZONE: 13
HORIZONTAL_UNITS: meters
HORIZONTAL_RESOLUTION: 1.00000
SECONDARY_HORIZONTAL_DATUM: NAD27
XY_ORIGIN: 504406.00000 5205478.00000
SECONDARY_XY_ORIGIN: 504446.09400 5205258.34200
NATION: US
STATE: MT
NW_QUAD_CORNER_XY: 504751.59800 5205166.00500
NE_QUAD_CORNER_XY: 509503.19600 5205171.69200
SE_QUAD_CORNERY_XY: 509514.27300 5198226.33200
SW_QUAD_CORNER_XY: 504757.13700 5198220.64500
SECONDARY_NW_QUAD_XY: 504751.74500 5204947.47100
SECONDARY_NE_QUAD_XY: 509503.48900 5204953.15700
SECONDARY_SE_QUAD_XY: 509514.56500 5198007.82700
SECONDARY_SW_QUAD_XY: 504757.28300 5198002.14000
RMSE_XY: 2.36000
IMAGE_SOURCE: BLACK AND WHITE FILM
SOURCE_IMAGE_ID: NAPP 9108-164
SOURCE_IMAGE_DATE: 1996 8 8
SOURCE_DEM_DATE: 1999 0 0
AGENCY: WESTERN MAPPING CENTER (WMC)
PRODUCER: WOOLPERT LLP
PRODUCTION_SYSTEM: INTERGRAPH ISPM, ISIR
COMPRESSION: UNDEFINED
STANDARD_VERSION: 1996 12
METADATA_DATE: 2001 8 28
DATA_FILE_SIZE: 40951496
BYTE_COUNT: 5414
