FILENAME: O4610401.SES.1163706.tif
QUADRANGLE_NAME: MARSH
QUADRANT: SE
WEST_LONGITUDE: -104 56 15.00000
EAST_LONGITUDE: -104 52 30.00000
NORTH_LATITUDE: 46 56 15.00000
SOUTH_LATITUDE: 46 52 30.00000
PRODUCTION_DATE: 2001 8 28
RASTER_ORDER: LEFT_RIGHT/TOP_BOTTOM
BAND_ORGANIZATION: SINGLE FILE
BAND_CONTENT: BLACK&WHITE
BAND_CONTENT: UNDEFINED
BAND_CONTENT: UNDEFINED
BITS_PER_PIXEL: 8
SAMPLES_AND_LINES: 5419 7563
HORIZONTAL_DATUM: NAD83
HORIZONTAL_COORDINATE_SYSTEM: UTM
COORDINATE_ZONE: 13
HORIZONTAL_UNITS: meters
HORIZONTAL_RESOLUTION: 1.00000
SECONDARY_HORIZONTAL_DATUM: NAD27
XY_ORIGIN: 504412.00000 5198533.00000
SECONDARY_XY_ORIGIN: 504452.12500 5198313.44200
NATION: US
STATE: MT
NW_QUAD_CORNER_XY: 504757.13700 5198220.64500
NE_QUAD_CORNER_XY: 509514.27300 5198226.33200
SE_QUAD_CORNERY_XY: 509525.33700 5191281.04900
SW_QUAD_CORNER_XY: 504762.66900 5191275.36200
SECONDARY_NW_QUAD_XY: 504757.28300 5198002.14000
SECONDARY_NE_QUAD_XY: 509514.56500 5198007.82700
SECONDARY_SE_QUAD_XY: 509525.63000 5191062.57400
SECONDARY_SW_QUAD_XY: 504762.81500 5191056.88600
RMSE_XY: 2.19000
IMAGE_SOURCE: BLACK AND WHITE FILM
SOURCE_IMAGE_ID: NAPP 9108-166
SOURCE_IMAGE_DATE: 1996 8 8
SOURCE_DEM_DATE: 1999 0 0
AGENCY: WESTERN MAPPING CENTER (WMC)
PRODUCER: WOOLPERT LLP
PRODUCTION_SYSTEM: INTERGRAPH ISPM, ISIR
COMPRESSION: UNDEFINED
STANDARD_VERSION: 1996 12
METADATA_DATE: 2001 8 28
DATA_FILE_SIZE: 40989316
BYTE_COUNT: 5419
