FILENAME: O4610535.NWS.1126583.tif
QUADRANGLE_NAME: GOVERNMENT HILL
QUADRANT: NW
WEST_LONGITUDE: -105 45 0.00000
EAST_LONGITUDE: -105 41 15.00000
NORTH_LATITUDE: 46 30 0.00000
SOUTH_LATITUDE: 46 26 15.00000
PRODUCTION_DATE: 2001 1 18
RASTER_ORDER: LEFT_RIGHT/TOP_BOTTOM
BAND_ORGANIZATION: SINGLE FILE
BAND_CONTENT: BLACK&WHITE
BAND_CONTENT: UNDEFINED
BAND_CONTENT: UNDEFINED
BITS_PER_PIXEL: 8
SAMPLES_AND_LINES: 5515 7600
HORIZONTAL_DATUM: NAD83
HORIZONTAL_COORDINATE_SYSTEM: UTM
COORDINATE_ZONE: 13
HORIZONTAL_UNITS: meters
HORIZONTAL_RESOLUTION: 1.00000
SECONDARY_HORIZONTAL_DATUM: NAD27
XY_ORIGIN: 442037.00000 5150183.00000
SECONDARY_XY_ORIGIN: 442077.94500 5149963.91900
NATION: US
STATE: MT
NW_QUAD_CORNER_XY: 442451.16700 5149876.58600
NE_QUAD_CORNER_XY: 447246.89100 5149832.94500
SE_QUAD_CORNERY_XY: 447186.47400 5142888.21900
SW_QUAD_CORNER_XY: 442385.25700 5142931.86500
SECONDARY_NW_QUAD_XY: 442449.41300 5149658.31400
SECONDARY_NE_QUAD_XY: 447245.28300 5149614.67200
SECONDARY_SE_QUAD_XY: 447184.86500 5142669.98200
SECONDARY_SW_QUAD_XY: 442383.50200 5142713.62900
RMSE_XY: 2.36000
IMAGE_SOURCE: BLACK AND WHITE FILM
SOURCE_IMAGE_ID: NAPP 10721-173
SOURCE_IMAGE_DATE: 1997 8 25
SOURCE_IMAGE_ID: NAPP 10721-174
SOURCE_IMAGE_DATE: 1997 8 25
SOURCE_IMAGE_ID: NAPP 9105-056
SOURCE_IMAGE_DATE: 1996 8 1
SOURCE_DEM_DATE: 1999 0 0
AGENCY: WESTERN MAPPING CENTER (WMC)
PRODUCER: WOOLPERT LLP
PRODUCTION_SYSTEM: INTERGRAPH ISPM, ISIR
COMPRESSION: UNDEFINED
STANDARD_VERSION: 1996 12
METADATA_DATE: 2001 1 31
DATA_FILE_SIZE: 41919515
BYTE_COUNT: 5515
