FILENAME: O4610535.SWS.1126585.tif
QUADRANGLE_NAME: GOVERNMENT HILL
QUADRANT: SW
WEST_LONGITUDE: -105 45 0.00000
EAST_LONGITUDE: -105 41 15.00000
NORTH_LATITUDE: 46 26 15.00000
SOUTH_LATITUDE: 46 22 30.00000
PRODUCTION_DATE: 2001 1 18
RASTER_ORDER: LEFT_RIGHT/TOP_BOTTOM
BAND_ORGANIZATION: SINGLE FILE
BAND_CONTENT: BLACK&WHITE
BAND_CONTENT: UNDEFINED
BAND_CONTENT: UNDEFINED
BITS_PER_PIXEL: 8
SAMPLES_AND_LINES: 5521 7600
HORIZONTAL_DATUM: NAD83
HORIZONTAL_COORDINATE_SYSTEM: UTM
COORDINATE_ZONE: 13
HORIZONTAL_UNITS: meters
HORIZONTAL_RESOLUTION: 1.00000
SECONDARY_HORIZONTAL_DATUM: NAD27
XY_ORIGIN: 441971.00000 5143238.00000
SECONDARY_XY_ORIGIN: 442011.89400 5143018.98600
NATION: US
STATE: MT
NW_QUAD_CORNER_XY: 442385.25700 5142931.86500
NE_QUAD_CORNER_XY: 447186.47400 5142888.21900
SE_QUAD_CORNERY_XY: 447126.11900 5135943.56900
SW_QUAD_CORNER_XY: 442319.41500 5135987.21900
SECONDARY_NW_QUAD_XY: 442383.50200 5142713.62900
SECONDARY_NE_QUAD_XY: 447184.86500 5142669.98200
SECONDARY_SE_QUAD_XY: 447124.51100 5135725.36800
SECONDARY_SW_QUAD_XY: 442317.66100 5135769.01900
RMSE_XY: 2.54000
IMAGE_SOURCE: BLACK AND WHITE FILM
SOURCE_IMAGE_ID: NAPP 10721-175
SOURCE_IMAGE_DATE: 1997 8 25
SOURCE_IMAGE_ID: NAPP 10721-174
SOURCE_IMAGE_DATE: 1997 8 25
SOURCE_IMAGE_ID: NAPP 9105-052
SOURCE_IMAGE_DATE: 1996 8 1
SOURCE_IMAGE_ID: NAPP 9105-053
SOURCE_IMAGE_DATE: 1996 8 1
SOURCE_DEM_DATE: 1999 0 0
AGENCY: WESTERN MAPPING CENTER (WMC)
PRODUCER: WOOLPERT LLP
PRODUCTION_SYSTEM: INTERGRAPH ISPM, ISIR
COMPRESSION: UNDEFINED
STANDARD_VERSION: 1996 12
METADATA_DATE: 2001 1 31
DATA_FILE_SIZE: 41965121
BYTE_COUNT: 5521
