FILENAME: O4610534.NES.1126570.tif
QUADRANGLE_NAME: MILES CITY
QUADRANT: NE
WEST_LONGITUDE: -105 48 45.00000
EAST_LONGITUDE: -105 45 0.00000
NORTH_LATITUDE: 46 30 0.00000
SOUTH_LATITUDE: 46 26 15.00000
PRODUCTION_DATE: 2001 1 17
RASTER_ORDER: LEFT_RIGHT/TOP_BOTTOM
BAND_ORGANIZATION: SINGLE FILE
BAND_CONTENT: BLACK&WHITE
BAND_CONTENT: UNDEFINED
BAND_CONTENT: UNDEFINED
BITS_PER_PIXEL: 8
SAMPLES_AND_LINES: 5521 7604
HORIZONTAL_DATUM: NAD83
HORIZONTAL_COORDINATE_SYSTEM: UTM
COORDINATE_ZONE: 13
HORIZONTAL_UNITS: meters
HORIZONTAL_RESOLUTION: 1.00000
SECONDARY_HORIZONTAL_DATUM: NAD27
XY_ORIGIN: 437236.00000 5150230.00000
SECONDARY_XY_ORIGIN: 437277.00100 5150010.90700
NATION: US
STATE: MT
NW_QUAD_CORNER_XY: 437655.44700 5149924.02200
NE_QUAD_CORNER_XY: 442451.16700 5149876.58600
SE_QUAD_CORNERY_XY: 442385.25700 5142931.86500
SW_QUAD_CORNER_XY: 437584.04300 5142979.30600
SECONDARY_NW_QUAD_XY: 437653.54600 5149705.75200
SECONDARY_NE_QUAD_XY: 442449.41300 5149658.31400
SECONDARY_SE_QUAD_XY: 442383.50200 5142713.62900
SECONDARY_SW_QUAD_XY: 437582.14300 5142761.07200
RMSE_XY: 1.92000
IMAGE_SOURCE: BLACK AND WHITE FILM
SOURCE_IMAGE_ID: NAPP 10722-044
SOURCE_IMAGE_DATE: 1997 8 25
SOURCE_IMAGE_ID: NAPP 10722-043
SOURCE_IMAGE_DATE: 1997 8 25
SOURCE_DEM_DATE: 1999 0 0
AGENCY: WESTERN MAPPING CENTER (WMC)
PRODUCER: WOOLPERT LLP
PRODUCTION_SYSTEM: INTERGRAPH ISPM, ISIR
COMPRESSION: UNDEFINED
STANDARD_VERSION: 1996 12
METADATA_DATE: 2001 1 31
DATA_FILE_SIZE: 41987205
BYTE_COUNT: 5521
