FILENAME: O4610531.NWS.1163625.tif
QUADRANGLE_NAME: FLAT TOP BUTTE SW
QUADRANT: NW
WEST_LONGITUDE: -105 15 0.00000
EAST_LONGITUDE: -105 11 15.00000
NORTH_LATITUDE: 46 37 30.00000
SOUTH_LATITUDE: 46 33 45.00000
PRODUCTION_DATE: 2001 9 24
RASTER_ORDER: LEFT_RIGHT/TOP_BOTTOM
BAND_ORGANIZATION: SINGLE FILE
BAND_CONTENT: BLACK&WHITE
BAND_CONTENT: UNDEFINED
BAND_CONTENT: UNDEFINED
BITS_PER_PIXEL: 8
SAMPLES_AND_LINES: 5459 7570
HORIZONTAL_DATUM: NAD83
HORIZONTAL_COORDINATE_SYSTEM: UTM
COORDINATE_ZONE: 13
HORIZONTAL_UNITS: meters
HORIZONTAL_RESOLUTION: 1.00000
SECONDARY_HORIZONTAL_DATUM: NAD27
XY_ORIGIN: 480492.00000 5163830.00000
SECONDARY_XY_ORIGIN: 480532.61300 5163610.87300
NATION: US
STATE: MT
NW_QUAD_CORNER_XY: 480861.03800 5163523.44200
NE_QUAD_CORNER_XY: 485645.77800 5163510.16400
SE_QUAD_CORNERY_XY: 485629.26600 5156565.26300
SW_QUAD_CORNER_XY: 480839.02300 5156578.54200
SECONDARY_NW_QUAD_XY: 480860.45300 5163305.09400
SECONDARY_NE_QUAD_XY: 485645.33900 5163291.81500
SECONDARY_SE_QUAD_XY: 485628.82800 5156346.94800
SECONDARY_SW_QUAD_XY: 480838.43800 5156360.22900
RMSE_XY: 1.16000
IMAGE_SOURCE: BLACK AND WHITE FILM
SOURCE_IMAGE_ID: NAPP 9119-232
SOURCE_IMAGE_DATE: 1996 8 26
SOURCE_IMAGE_ID: NAPP 9116-214
SOURCE_IMAGE_DATE: 1996 8 27
SOURCE_IMAGE_ID: NAPP 9116-212
SOURCE_IMAGE_DATE: 1996 8 27
SOURCE_IMAGE_ID: NAPP 9119-144
SOURCE_IMAGE_DATE: 1996 8 26
SOURCE_DEM_DATE: 1999 0 0
AGENCY: WESTERN MAPPING CENTER (WMC)
PRODUCER: WOOLPERT LLP
PRODUCTION_SYSTEM: INTERGRAPH ISPM, ISIR
COMPRESSION: UNDEFINED
STANDARD_VERSION: 1996 12
METADATA_DATE: 2001 10 9
DATA_FILE_SIZE: 41330089
BYTE_COUNT: 5459
