FILENAME: O4610531.SES.1163626.tif
QUADRANGLE_NAME: FLAT TOP BUTTE SW
QUADRANT: SE
WEST_LONGITUDE: -105 11 15.00000
EAST_LONGITUDE: -105 7 30.00000
NORTH_LATITUDE: 46 33 45.00000
SOUTH_LATITUDE: 46 30 0.00000
PRODUCTION_DATE: 2001 9 24
RASTER_ORDER: LEFT_RIGHT/TOP_BOTTOM
BAND_ORGANIZATION: SINGLE FILE
BAND_CONTENT: BLACK&WHITE
BAND_CONTENT: UNDEFINED
BAND_CONTENT: UNDEFINED
BITS_PER_PIXEL: 8
SAMPLES_AND_LINES: 5459 7566
HORIZONTAL_DATUM: NAD83
HORIZONTAL_COORDINATE_SYSTEM: UTM
COORDINATE_ZONE: 13
HORIZONTAL_UNITS: meters
HORIZONTAL_RESOLUTION: 1.00000
SECONDARY_HORIZONTAL_DATUM: NAD27
XY_ORIGIN: 485266.00000 5156871.00000
SECONDARY_XY_ORIGIN: 485306.55100 5156651.98000
NATION: US
STATE: MT
NW_QUAD_CORNER_XY: 485629.26600 5156565.26300
NE_QUAD_CORNER_XY: 490419.51000 5156555.77700
SE_QUAD_CORNERY_XY: 490408.51400 5149610.95100
SW_QUAD_CORNER_XY: 485612.77200 5149620.43800
SECONDARY_NW_QUAD_XY: 485628.82800 5156346.94800
SECONDARY_NE_QUAD_XY: 490419.21800 5156337.46200
SECONDARY_SE_QUAD_XY: 490408.22200 5149392.67100
SECONDARY_SW_QUAD_XY: 485612.33400 5149402.15800
RMSE_XY: 1.72000
IMAGE_SOURCE: BLACK AND WHITE FILM
SOURCE_IMAGE_ID: NAPP 9119-147
SOURCE_IMAGE_DATE: 1996 8 26
SOURCE_DEM_DATE: 1999 0 0
AGENCY: WESTERN MAPPING CENTER (WMC)
PRODUCER: WOOLPERT LLP
PRODUCTION_SYSTEM: INTERGRAPH ISPM, ISIR
COMPRESSION: UNDEFINED
STANDARD_VERSION: 1996 12
METADATA_DATE: 2001 10 9
DATA_FILE_SIZE: 41308253
BYTE_COUNT: 5459
