FILENAME: O4610529.NES.1163732.tif
QUADRANGLE_NAME: CORRAL BUTTE
QUADRANT: NE
WEST_LONGITUDE: -105 26 15.00000
EAST_LONGITUDE: -105 22 30.00000
NORTH_LATITUDE: 46 37 30.00000
SOUTH_LATITUDE: 46 33 45.00000
PRODUCTION_DATE: 2001 9 7
RASTER_ORDER: LEFT_RIGHT/TOP_BOTTOM
BAND_ORGANIZATION: SINGLE FILE
BAND_CONTENT: BLACK&WHITE
BAND_CONTENT: UNDEFINED
BAND_CONTENT: UNDEFINED
BITS_PER_PIXEL: 8
SAMPLES_AND_LINES: 5476 7581
HORIZONTAL_DATUM: NAD83
HORIZONTAL_COORDINATE_SYSTEM: UTM
COORDINATE_ZONE: 13
HORIZONTAL_UNITS: meters
HORIZONTAL_RESOLUTION: 1.00000
SECONDARY_HORIZONTAL_DATUM: NAD27
XY_ORIGIN: 466121.00000 5163892.00000
SECONDARY_XY_ORIGIN: 466161.73800 5163672.83200
NATION: US
STATE: MT
NW_QUAD_CORNER_XY: 466506.82900 5163586.04100
NE_QUAD_CORNER_XY: 471291.56400 5163561.38000
SE_QUAD_CORNERY_XY: 471258.54100 5156616.48500
SW_QUAD_CORNER_XY: 466468.30200 5156641.14800
SECONDARY_NW_QUAD_XY: 466505.80500 5163367.69500
SECONDARY_NE_QUAD_XY: 471290.68600 5163343.03400
SECONDARY_SE_QUAD_XY: 471257.66300 5156398.17300
SECONDARY_SW_QUAD_XY: 466467.27800 5156422.83600
RMSE_XY: 2.70000
IMAGE_SOURCE: BLACK AND WHITE FILM
SOURCE_IMAGE_ID: NAPP 9093-050
SOURCE_IMAGE_DATE: 1996 7 9
SOURCE_IMAGE_ID: NAPP 9093-049
SOURCE_IMAGE_DATE: 1996 7 9
SOURCE_IMAGE_ID: NAPP 9116-058
SOURCE_IMAGE_DATE: 1996 8 27
SOURCE_DEM_DATE: 1999 0 0
AGENCY: WESTERN MAPPING CENTER (WMC)
PRODUCER: WOOLPERT LLP
PRODUCTION_SYSTEM: INTERGRAPH ISPM, ISIR
COMPRESSION: UNDEFINED
STANDARD_VERSION: 1996 12
METADATA_DATE: 2001 9 19
DATA_FILE_SIZE: 41519032
BYTE_COUNT: 5476
