FILENAME: O4610529.NWS.1163733.tif
QUADRANGLE_NAME: CORRAL BUTTE
QUADRANT: NW
WEST_LONGITUDE: -105 30 0.00000
EAST_LONGITUDE: -105 26 15.00000
NORTH_LATITUDE: 46 37 30.00000
SOUTH_LATITUDE: 46 33 45.00000
PRODUCTION_DATE: 2001 9 7
RASTER_ORDER: LEFT_RIGHT/TOP_BOTTOM
BAND_ORGANIZATION: SINGLE FILE
BAND_CONTENT: BLACK&WHITE
BAND_CONTENT: UNDEFINED
BAND_CONTENT: UNDEFINED
BITS_PER_PIXEL: 8
SAMPLES_AND_LINES: 5481 7585
HORIZONTAL_DATUM: NAD83
HORIZONTAL_COORDINATE_SYSTEM: UTM
COORDINATE_ZONE: 13
HORIZONTAL_UNITS: meters
HORIZONTAL_RESOLUTION: 1.00000
SECONDARY_HORIZONTAL_DATUM: NAD27
XY_ORIGIN: 461331.00000 5163921.00000
SECONDARY_XY_ORIGIN: 461371.78100 5163701.81900
NATION: US
STATE: MT
NW_QUAD_CORNER_XY: 461722.09700 5163614.49500
NE_QUAD_CORNER_XY: 466506.82900 5163586.04100
SE_QUAD_CORNERY_XY: 466468.30200 5156641.14800
SW_QUAD_CORNER_XY: 461678.06600 5156669.60600
SECONDARY_NW_QUAD_XY: 461720.92700 5163396.15000
SECONDARY_NE_QUAD_XY: 466505.80500 5163367.69500
SECONDARY_SE_QUAD_XY: 466467.27800 5156422.83600
SECONDARY_SW_QUAD_XY: 461676.89600 5156451.29500
RMSE_XY: 2.75000
IMAGE_SOURCE: BLACK AND WHITE FILM
SOURCE_IMAGE_ID: NAPP 9093-207
SOURCE_IMAGE_DATE: 1996 7 9
SOURCE_IMAGE_ID: NAPP 9093-208
SOURCE_IMAGE_DATE: 1996 7 9
SOURCE_IMAGE_ID: NAPP 9093-049
SOURCE_IMAGE_DATE: 1996 7 9
SOURCE_DEM_DATE: 1999 0 0
AGENCY: WESTERN MAPPING CENTER (WMC)
PRODUCER: WOOLPERT LLP
PRODUCTION_SYSTEM: INTERGRAPH ISPM, ISIR
COMPRESSION: UNDEFINED
STANDARD_VERSION: 1996 12
METADATA_DATE: 2001 9 19
DATA_FILE_SIZE: 41578866
BYTE_COUNT: 5481
