FILENAME: O4610528.SWS.1126589.tif
QUADRANGLE_NAME: SHIRLEY
QUADRANT: SW
WEST_LONGITUDE: -105 37 30.00000
EAST_LONGITUDE: -105 33 45.00000
NORTH_LATITUDE: 46 33 45.00000
SOUTH_LATITUDE: 46 30 0.00000
PRODUCTION_DATE: 2001 1 18
RASTER_ORDER: LEFT_RIGHT/TOP_BOTTOM
BAND_ORGANIZATION: SINGLE FILE
BAND_CONTENT: BLACK&WHITE
BAND_CONTENT: UNDEFINED
BAND_CONTENT: UNDEFINED
BITS_PER_PIXEL: 8
SAMPLES_AND_LINES: 5498 7592
HORIZONTAL_DATUM: NAD83
HORIZONTAL_COORDINATE_SYSTEM: UTM
COORDINATE_ZONE: 13
HORIZONTAL_UNITS: meters
HORIZONTAL_RESOLUTION: 1.00000
SECONDARY_HORIZONTAL_DATUM: NAD27
XY_ORIGIN: 451695.00000 5157044.00000
SECONDARY_XY_ORIGIN: 451735.87100 5156824.87700
NATION: US
STATE: MT
NW_QUAD_CORNER_XY: 452097.60000 5156737.90500
NE_QUAD_CORNER_XY: 456887.83200 5156701.85800
SE_QUAD_CORNERY_XY: 456838.34800 5149757.04800
SW_QUAD_CORNER_XY: 452042.61800 5149793.09900
SECONDARY_NW_QUAD_XY: 452096.13800 5156519.59500
SECONDARY_NE_QUAD_XY: 456886.51500 5156483.54800
SECONDARY_SE_QUAD_XY: 456837.03200 5149538.77300
SECONDARY_SW_QUAD_XY: 452041.15600 5149574.82500
RMSE_XY: 2.53000
IMAGE_SOURCE: BLACK AND WHITE FILM
SOURCE_IMAGE_ID: NAPP 9105-046
SOURCE_IMAGE_DATE: 1996 8 1
SOURCE_IMAGE_ID: NAPP 9105-045
SOURCE_IMAGE_DATE: 1996 8 1
SOURCE_IMAGE_ID: NAPP 9105-056
SOURCE_IMAGE_DATE: 1996 8 1
SOURCE_DEM_DATE: 1999 0 0
AGENCY: WESTERN MAPPING CENTER (WMC)
PRODUCER: WOOLPERT LLP
PRODUCTION_SYSTEM: INTERGRAPH ISPM, ISIR
COMPRESSION: UNDEFINED
STANDARD_VERSION: 1996 12
METADATA_DATE: 2001 1 31
DATA_FILE_SIZE: 41746314
BYTE_COUNT: 5498
