FILENAME: O4610525.NWS.1126555.tif
QUADRANGLE_NAME: DEADMAN CREEK
QUADRANT: NW
WEST_LONGITUDE: -106 0 0.00000
EAST_LONGITUDE: -105 56 15.00000
NORTH_LATITUDE: 46 37 30.00000
SOUTH_LATITUDE: 46 33 45.00000
PRODUCTION_DATE: 2001 1 17
RASTER_ORDER: LEFT_RIGHT/TOP_BOTTOM
BAND_ORGANIZATION: SINGLE FILE
BAND_CONTENT: BLACK&WHITE
BAND_CONTENT: UNDEFINED
BAND_CONTENT: UNDEFINED
BITS_PER_PIXEL: 8
SAMPLES_AND_LINES: 5528 7615
HORIZONTAL_DATUM: NAD83
HORIZONTAL_COORDINATE_SYSTEM: UTM
COORDINATE_ZONE: 13
HORIZONTAL_UNITS: meters
HORIZONTAL_RESOLUTION: 1.00000
SECONDARY_HORIZONTAL_DATUM: NAD27
XY_ORIGIN: 423007.00000 5164285.00000
SECONDARY_XY_ORIGIN: 423048.25400 5164065.76300
NATION: US
STATE: MT
NW_QUAD_CORNER_XY: 423444.35500 5163978.72100
NE_QUAD_CORNER_XY: 428229.05800 5163919.91200
SE_QUAD_CORNERY_XY: 428146.49500 5156975.06000
SW_QUAD_CORNER_XY: 423356.28600 5157033.87600
SECONDARY_NW_QUAD_XY: 423442.01400 5163760.38700
SECONDARY_NE_QUAD_XY: 428226.86400 5163701.57600
SECONDARY_SE_QUAD_XY: 428144.30100 5156756.75800
SECONDARY_SW_QUAD_XY: 423353.94600 5156815.57600
RMSE_XY: 2.14000
IMAGE_SOURCE: BLACK AND WHITE FILM
SOURCE_IMAGE_ID: NAPP 9088-201
SOURCE_IMAGE_DATE: 1996 7 7
SOURCE_IMAGE_ID: NAPP 9088-202
SOURCE_IMAGE_DATE: 1996 7 7
SOURCE_DEM_DATE: 1987 0 0
AGENCY: WESTERN MAPPING CENTER (WMC)
PRODUCER: WOOLPERT LLP
PRODUCTION_SYSTEM: INTERGRAPH ISPM, ISIR
COMPRESSION: UNDEFINED
STANDARD_VERSION: 1996 12
METADATA_DATE: 2001 1 31
DATA_FILE_SIZE: 42101248
BYTE_COUNT: 5528
