FILENAME: O4610524.SWS.1163623.tif
QUADRANGLE_NAME: FLAT TOP BUTTE NE
QUADRANT: SW
WEST_LONGITUDE: -105 7 30.00000
EAST_LONGITUDE: -105 3 45.00000
NORTH_LATITUDE: 46 41 15.00000
SOUTH_LATITUDE: 46 37 30.00000
PRODUCTION_DATE: 2001 9 24
RASTER_ORDER: LEFT_RIGHT/TOP_BOTTOM
BAND_ORGANIZATION: SINGLE FILE
BAND_CONTENT: BLACK&WHITE
BAND_CONTENT: UNDEFINED
BAND_CONTENT: UNDEFINED
BITS_PER_PIXEL: 8
SAMPLES_AND_LINES: 5442 7563
HORIZONTAL_DATUM: NAD83
HORIZONTAL_COORDINATE_SYSTEM: UTM
COORDINATE_ZONE: 13
HORIZONTAL_UNITS: meters
HORIZONTAL_RESOLUTION: 1.00000
SECONDARY_HORIZONTAL_DATUM: NAD27
XY_ORIGIN: 490084.00000 5170752.00000
SECONDARY_XY_ORIGIN: 490124.44900 5170532.81900
NATION: US
STATE: MT
NW_QUAD_CORNER_XY: 490441.53700 5170445.65700
NE_QUAD_CORNER_XY: 495220.76800 5170439.96700
SE_QUAD_CORNERY_XY: 495215.25900 5163494.98800
SW_QUAD_CORNER_XY: 490430.51800 5163500.67900
SECONDARY_NW_QUAD_XY: 490441.24400 5170227.27600
SECONDARY_NE_QUAD_XY: 495220.62200 5170221.58600
SECONDARY_SE_QUAD_XY: 495215.11300 5163276.64000
SECONDARY_SW_QUAD_XY: 490430.22500 5163282.33000
RMSE_XY: 1.31000
IMAGE_SOURCE: BLACK AND WHITE FILM
SOURCE_IMAGE_ID: NAPP 9119-120
SOURCE_IMAGE_DATE: 1996 8 26
SOURCE_DEM_DATE: 1999 0 0
AGENCY: WESTERN MAPPING CENTER (WMC)
PRODUCER: WOOLPERT LLP
PRODUCTION_SYSTEM: INTERGRAPH ISPM, ISIR
COMPRESSION: UNDEFINED
STANDARD_VERSION: 1996 12
METADATA_DATE: 2001 10 10
DATA_FILE_SIZE: 41163288
BYTE_COUNT: 5442
