FILENAME: O4610522.NES.1163740.tif
QUADRANGLE_NAME: ZERO NE
QUADRANT: NE
WEST_LONGITUDE: -105 18 45.00000
EAST_LONGITUDE: -105 15 0.00000
NORTH_LATITUDE: 46 45 0.00000
SOUTH_LATITUDE: 46 41 15.00000
PRODUCTION_DATE: 2001 9 7
RASTER_ORDER: LEFT_RIGHT/TOP_BOTTOM
BAND_ORGANIZATION: SINGLE FILE
BAND_CONTENT: BLACK&WHITE
BAND_CONTENT: UNDEFINED
BAND_CONTENT: UNDEFINED
BITS_PER_PIXEL: 8
SAMPLES_AND_LINES: 5454 7574
HORIZONTAL_DATUM: NAD83
HORIZONTAL_COORDINATE_SYSTEM: UTM
COORDINATE_ZONE: 13
HORIZONTAL_UNITS: meters
HORIZONTAL_RESOLUTION: 1.00000
SECONDARY_HORIZONTAL_DATUM: NAD27
XY_ORIGIN: 475757.00000 5177737.00000
SECONDARY_XY_ORIGIN: 475797.64500 5177517.68100
NATION: US
STATE: MT
NW_QUAD_CORNER_XY: 476131.42400 5177430.53700
NE_QUAD_CORNER_XY: 480905.13700 5177413.46900
SE_QUAD_CORNERY_XY: 480883.07600 5170468.41700
SW_QUAD_CORNER_XY: 476103.84800 5170485.48800
SECONDARY_NW_QUAD_XY: 476130.69300 5177212.12400
SECONDARY_NE_QUAD_XY: 480904.55200 5177195.05600
SECONDARY_SE_QUAD_XY: 480882.49100 5170250.03700
SECONDARY_SW_QUAD_XY: 476103.11600 5170267.10700
RMSE_XY: 2.14000
IMAGE_SOURCE: BLACK AND WHITE FILM
SOURCE_IMAGE_ID: NAPP 9116-209
SOURCE_IMAGE_DATE: 1996 8 27
SOURCE_DEM_DATE: 1999 0 0
AGENCY: WESTERN MAPPING CENTER (WMC)
PRODUCER: WOOLPERT LLP
PRODUCTION_SYSTEM: INTERGRAPH ISPM, ISIR
COMPRESSION: UNDEFINED
STANDARD_VERSION: 1996 12
METADATA_DATE: 2001 9 18
DATA_FILE_SIZE: 41314050
BYTE_COUNT: 5454
