FILENAME: O4610522.NWS.1163741.tif
QUADRANGLE_NAME: ZERO NE
QUADRANT: NW
WEST_LONGITUDE: -105 22 30.00000
EAST_LONGITUDE: -105 18 45.00000
NORTH_LATITUDE: 46 45 0.00000
SOUTH_LATITUDE: 46 41 15.00000
PRODUCTION_DATE: 2001 9 7
RASTER_ORDER: LEFT_RIGHT/TOP_BOTTOM
BAND_ORGANIZATION: SINGLE FILE
BAND_CONTENT: BLACK&WHITE
BAND_CONTENT: UNDEFINED
BAND_CONTENT: UNDEFINED
BITS_PER_PIXEL: 8
SAMPLES_AND_LINES: 5459 7578
HORIZONTAL_DATUM: NAD83
HORIZONTAL_COORDINATE_SYSTEM: UTM
COORDINATE_ZONE: 13
HORIZONTAL_UNITS: meters
HORIZONTAL_RESOLUTION: 1.00000
SECONDARY_HORIZONTAL_DATUM: NAD27
XY_ORIGIN: 470978.00000 5177758.00000
SECONDARY_XY_ORIGIN: 471018.70000 5177538.66800
NATION: US
STATE: MT
NW_QUAD_CORNER_XY: 471357.71300 5177451.39800
NE_QUAD_CORNER_XY: 476131.42400 5177430.53700
SE_QUAD_CORNERY_XY: 476103.84800 5170485.48800
SW_QUAD_CORNER_XY: 471324.62100 5170506.35100
SECONDARY_NW_QUAD_XY: 471356.83500 5177232.98600
SECONDARY_NE_QUAD_XY: 476130.69300 5177212.12400
SECONDARY_SE_QUAD_XY: 476103.11600 5170267.10700
SECONDARY_SW_QUAD_XY: 471323.74300 5170287.97200
RMSE_XY: 1.88000
IMAGE_SOURCE: BLACK AND WHITE FILM
SOURCE_IMAGE_ID: NAPP 9116-061
SOURCE_IMAGE_DATE: 1996 8 27
SOURCE_IMAGE_ID: NAPP 9116-060
SOURCE_IMAGE_DATE: 1996 8 27
SOURCE_IMAGE_ID: NAPP 9093-053
SOURCE_IMAGE_DATE: 1996 7 9
SOURCE_DEM_DATE: 1999 0 0
AGENCY: WESTERN MAPPING CENTER (WMC)
PRODUCER: WOOLPERT LLP
PRODUCTION_SYSTEM: INTERGRAPH ISPM, ISIR
COMPRESSION: UNDEFINED
STANDARD_VERSION: 1996 12
METADATA_DATE: 2001 9 18
DATA_FILE_SIZE: 41373761
BYTE_COUNT: 5459
