FILENAME: O4610522.SWS.1163743.tif
QUADRANGLE_NAME: ZERO NE
QUADRANT: SW
WEST_LONGITUDE: -105 22 30.00000
EAST_LONGITUDE: -105 18 45.00000
NORTH_LATITUDE: 46 41 15.00000
SOUTH_LATITUDE: 46 37 30.00000
PRODUCTION_DATE: 2001 9 7
RASTER_ORDER: LEFT_RIGHT/TOP_BOTTOM
BAND_ORGANIZATION: SINGLE FILE
BAND_CONTENT: BLACK&WHITE
BAND_CONTENT: UNDEFINED
BAND_CONTENT: UNDEFINED
BITS_PER_PIXEL: 8
SAMPLES_AND_LINES: 5465 7578
HORIZONTAL_DATUM: NAD83
HORIZONTAL_COORDINATE_SYSTEM: UTM
COORDINATE_ZONE: 13
HORIZONTAL_UNITS: meters
HORIZONTAL_RESOLUTION: 1.00000
SECONDARY_HORIZONTAL_DATUM: NAD27
XY_ORIGIN: 470944.00000 5170813.00000
SECONDARY_XY_ORIGIN: 470984.69900 5170593.75600
NATION: US
STATE: MT
NW_QUAD_CORNER_XY: 471324.62100 5170506.35100
NE_QUAD_CORNER_XY: 476103.84800 5170485.48800
SE_QUAD_CORNERY_XY: 476076.30000 5163540.51400
SW_QUAD_CORNER_XY: 471291.56400 5163561.38000
SECONDARY_NW_QUAD_XY: 471323.74300 5170287.97200
SECONDARY_NE_QUAD_XY: 476103.11600 5170267.10700
SECONDARY_SE_QUAD_XY: 476075.56900 5163322.16700
SECONDARY_SW_QUAD_XY: 471290.68600 5163343.03400
RMSE_XY: 2.27000
IMAGE_SOURCE: BLACK AND WHITE FILM
SOURCE_IMAGE_ID: NAPP 9116-059
SOURCE_IMAGE_DATE: 1996 8 27
SOURCE_IMAGE_ID: NAPP 9116-058
SOURCE_IMAGE_DATE: 1996 8 27
SOURCE_IMAGE_ID: NAPP 9116-060
SOURCE_IMAGE_DATE: 1996 8 27
SOURCE_IMAGE_ID: NAPP 9093-053
SOURCE_IMAGE_DATE: 1996 7 9
SOURCE_DEM_DATE: 1999 0 0
AGENCY: WESTERN MAPPING CENTER (WMC)
PRODUCER: WOOLPERT LLP
PRODUCTION_SYSTEM: INTERGRAPH ISPM, ISIR
COMPRESSION: UNDEFINED
STANDARD_VERSION: 1996 12
METADATA_DATE: 2001 9 18
DATA_FILE_SIZE: 41419235
BYTE_COUNT: 5465
