FILENAME: O4610521.NWS.1163729.tif
QUADRANGLE_NAME: ZERO
QUADRANT: NW
WEST_LONGITUDE: -105 30 0.00000
EAST_LONGITUDE: -105 26 15.00000
NORTH_LATITUDE: 46 45 0.00000
SOUTH_LATITUDE: 46 41 15.00000
PRODUCTION_DATE: 2001 9 7
RASTER_ORDER: LEFT_RIGHT/TOP_BOTTOM
BAND_ORGANIZATION: SINGLE FILE
BAND_CONTENT: BLACK&WHITE
BAND_CONTENT: UNDEFINED
BAND_CONTENT: UNDEFINED
BITS_PER_PIXEL: 8
SAMPLES_AND_LINES: 5471 7585
HORIZONTAL_DATUM: NAD83
HORIZONTAL_COORDINATE_SYSTEM: UTM
COORDINATE_ZONE: 13
HORIZONTAL_UNITS: meters
HORIZONTAL_RESOLUTION: 1.00000
SECONDARY_HORIZONTAL_DATUM: NAD27
XY_ORIGIN: 461419.00000 5177811.00000
SECONDARY_XY_ORIGIN: 461459.81300 5177591.64200
NATION: US
STATE: MT
NW_QUAD_CORNER_XY: 461810.29700 5177504.49900
NE_QUAD_CORNER_XY: 466584.00400 5177476.05200
SE_QUAD_CORNERY_XY: 466545.39600 5170531.00800
SW_QUAD_CORNER_XY: 461766.17400 5170559.45900
SECONDARY_NW_QUAD_XY: 461809.12600 5177286.08900
SECONDARY_NE_QUAD_XY: 466582.97900 5177257.64100
SECONDARY_SE_QUAD_XY: 466544.37200 5170312.62900
SECONDARY_SW_QUAD_XY: 461765.00300 5170341.08100
RMSE_XY: 2.50000
IMAGE_SOURCE: BLACK AND WHITE FILM
SOURCE_IMAGE_ID: NAPP 9093-203
SOURCE_IMAGE_DATE: 1996 7 9
SOURCE_IMAGE_ID: NAPP 9094-016
SOURCE_IMAGE_DATE: 1996 7 9
SOURCE_DEM_DATE: 1999 0 0
AGENCY: WESTERN MAPPING CENTER (WMC)
PRODUCER: WOOLPERT LLP
PRODUCTION_SYSTEM: INTERGRAPH ISPM, ISIR
COMPRESSION: UNDEFINED
STANDARD_VERSION: 1996 12
METADATA_DATE: 2001 9 19
DATA_FILE_SIZE: 41503006
BYTE_COUNT: 5471
