FILENAME: O4610520.NWS.1163721.tif
QUADRANGLE_NAME: KINSEY NE
QUADRANT: NW
WEST_LONGITUDE: -105 37 30.00000
EAST_LONGITUDE: -105 33 45.00000
NORTH_LATITUDE: 46 45 0.00000
SOUTH_LATITUDE: 46 41 15.00000
PRODUCTION_DATE: 2001 9 10
RASTER_ORDER: LEFT_RIGHT/TOP_BOTTOM
BAND_ORGANIZATION: SINGLE FILE
BAND_CONTENT: BLACK&WHITE
BAND_CONTENT: UNDEFINED
BAND_CONTENT: UNDEFINED
BITS_PER_PIXEL: 8
SAMPLES_AND_LINES: 5482 7593
HORIZONTAL_DATUM: NAD83
HORIZONTAL_COORDINATE_SYSTEM: UTM
COORDINATE_ZONE: 13
HORIZONTAL_UNITS: meters
HORIZONTAL_RESOLUTION: 1.00000
SECONDARY_HORIZONTAL_DATUM: NAD27
XY_ORIGIN: 451860.00000 5177879.00000
SECONDARY_XY_ORIGIN: 451900.94500 5177659.63700
NATION: US
STATE: MT
NW_QUAD_CORNER_XY: 452262.89100 5177572.77300
NE_QUAD_CORNER_XY: 457036.59200 5177536.73900
SE_QUAD_CORNERY_XY: 456986.95400 5170591.70300
SW_QUAD_CORNER_XY: 452207.73700 5170627.74100
SECONDARY_NW_QUAD_XY: 452261.42800 5177354.36400
SECONDARY_NE_QUAD_XY: 457035.27500 5177318.33000
SECONDARY_SE_QUAD_XY: 456985.63700 5170373.32600
SECONDARY_SW_QUAD_XY: 452206.27400 5170409.36500
RMSE_XY: 2.22000
IMAGE_SOURCE: BLACK AND WHITE FILM
SOURCE_IMAGE_ID: NAPP 9105-040
SOURCE_IMAGE_DATE: 1996 8 1
SOURCE_IMAGE_ID: NAPP 9105-041
SOURCE_IMAGE_DATE: 1996 8 1
SOURCE_IMAGE_ID: NAPP 9105-039
SOURCE_IMAGE_DATE: 1996 8 1
SOURCE_IMAGE_ID: NAPP 9094-016
SOURCE_IMAGE_DATE: 1996 7 9
SOURCE_DEM_DATE: 1999 0 0
AGENCY: WESTERN MAPPING CENTER (WMC)
PRODUCER: WOOLPERT LLP
PRODUCTION_SYSTEM: INTERGRAPH ISPM, ISIR
COMPRESSION: UNDEFINED
STANDARD_VERSION: 1996 12
METADATA_DATE: 2001 9 20
DATA_FILE_SIZE: 41630308
BYTE_COUNT: 5482
